BEGIN:VCALENDAR
VERSION:2.0
PRODID:-//Stadtturnverein Frauenfeld - STVF - ECPv6.15.20//NONSGML v1.0//EN
CALSCALE:GREGORIAN
METHOD:PUBLISH
X-WR-CALNAME:Stadtturnverein Frauenfeld - STVF
X-ORIGINAL-URL:https://www.stvf.ch
X-WR-CALDESC:Veranstaltungen im Stadtturnverein Frauenfeld - STVF
REFRESH-INTERVAL;VALUE=DURATION:PT1H
X-Robots-Tag:noindex
X-PUBLISHED-TTL:PT1H
BEGIN:VTIMEZONE
TZID:Europe/Zurich
BEGIN:DAYLIGHT
TZOFFSETFROM:+0100
TZOFFSETTO:+0200
TZNAME:CEST
DTSTART:20230326T010000
END:DAYLIGHT
BEGIN:STANDARD
TZOFFSETFROM:+0200
TZOFFSETTO:+0100
TZNAME:CET
DTSTART:20231029T010000
END:STANDARD
BEGIN:DAYLIGHT
TZOFFSETFROM:+0100
TZOFFSETTO:+0200
TZNAME:CEST
DTSTART:20240331T010000
END:DAYLIGHT
BEGIN:STANDARD
TZOFFSETFROM:+0200
TZOFFSETTO:+0100
TZNAME:CET
DTSTART:20241027T010000
END:STANDARD
BEGIN:DAYLIGHT
TZOFFSETFROM:+0100
TZOFFSETTO:+0200
TZNAME:CEST
DTSTART:20250330T010000
END:DAYLIGHT
BEGIN:STANDARD
TZOFFSETFROM:+0200
TZOFFSETTO:+0100
TZNAME:CET
DTSTART:20251026T010000
END:STANDARD
BEGIN:DAYLIGHT
TZOFFSETFROM:+0100
TZOFFSETTO:+0200
TZNAME:CEST
DTSTART:20260329T010000
END:DAYLIGHT
BEGIN:STANDARD
TZOFFSETFROM:+0200
TZOFFSETTO:+0100
TZNAME:CET
DTSTART:20261025T010000
END:STANDARD
BEGIN:DAYLIGHT
TZOFFSETFROM:+0100
TZOFFSETTO:+0200
TZNAME:CEST
DTSTART:20270328T010000
END:DAYLIGHT
BEGIN:STANDARD
TZOFFSETFROM:+0200
TZOFFSETTO:+0100
TZNAME:CET
DTSTART:20271031T010000
END:STANDARD
END:VTIMEZONE
BEGIN:VEVENT
DTSTART;TZID=Europe/Zurich:20260206T183000
DTEND;TZID=Europe/Zurich:20260206T213000
DTSTAMP:20260424T181219
CREATED:20250418T132131Z
LAST-MODIFIED:20250706T110743Z
UID:9572-1770402600-1770413400@www.stvf.ch
SUMMARY:Jahresversammlung MF35+ 2026
DESCRIPTION:Wie jedes Jahr lädt der Vorstand MF35+ zur Jahresversammlung ein.
URL:https://www.stvf.ch/veranstaltungen/jahresversammlung-mf35-3/
LOCATION:Stadtgarten-Saal\, Stadtgartenweg 1\, Frauenfeld\, 8500\, Schweiz
CATEGORIES:Männer-Fitness 35+
ATTACH;FMTTYPE=image/jpeg:https://www.stvf.ch/wp-content/uploads/2025/02/IMG_5603_750x1000.jpg
END:VEVENT
BEGIN:VEVENT
DTSTART;TZID=Europe/Zurich:20260112T190000
DTEND;TZID=Europe/Zurich:20260112T190000
DTSTAMP:20260424T181219
CREATED:20250921T170717Z
LAST-MODIFIED:20251204T153740Z
UID:10102-1768244400-1768244400@www.stvf.ch
SUMMARY:Abteilungsversammlung Frauen
DESCRIPTION:Mehrzweckraum Bsetzi   (nähe Rest. Obstgarten)\, Talstrasse 7a\, Frauenfeld \nAn- oder Abmelden bis Sonntag 4.Januar 2026
URL:https://www.stvf.ch/veranstaltungen/abteilungsversammlung-frauen-2/
CATEGORIES:Frauen
END:VEVENT
BEGIN:VEVENT
DTSTART;TZID=Europe/Zurich:20251203T163000
DTEND;TZID=Europe/Zurich:20251203T200000
DTSTAMP:20260424T181219
CREATED:20251127T165921Z
LAST-MODIFIED:20251127T170254Z
UID:10344-1764779400-1764792000@www.stvf.ch
SUMMARY:Chlaushöck Kantiriege vom 3. Dez 2025
DESCRIPTION:Unser Chlaushöck findet am Mittwoch\, 3. Dezember 2025\, statt. Heini und Chrigel laden zum Chlaushöck ein\, in die Hütte der fliegenden Modelle\, etwas früher als zum Fausten\, so um 16:30 Uhr. Wer sich anmeldet ist dabei. Und nehmt etwas cash mit.
URL:https://www.stvf.ch/veranstaltungen/chlaushoeck-3-dez-2025/
LOCATION:Klubhaus Modellfluggruppe\, Waffenplatzstrasse\, Allmend\, Frauenfeld\, Thurgau\, 8500\, Schweiz
END:VEVENT
BEGIN:VEVENT
DTSTART;TZID=Europe/Zurich:20250913T070000
DTEND;TZID=Europe/Zurich:20250914T180000
DTSTAMP:20260424T181219
CREATED:20250418T125914Z
LAST-MODIFIED:20250813T112843Z
UID:9566-1757746800-1757872800@www.stvf.ch
SUMMARY:Turnfahrt MF35+
DESCRIPTION:Dieses Jahr wird wieder eine 2-tägige Turnfahrt organisiert von der Riege Langdorf. \nHier das aktuelle Programm.
URL:https://www.stvf.ch/veranstaltungen/turnfahrt-mf35-3/
CATEGORIES:Männer-Fitness 35+
ATTACH;FMTTYPE=image/jpeg:https://www.stvf.ch/wp-content/uploads/2025/04/IMG_0531.jpg
END:VEVENT
BEGIN:VEVENT
DTSTART;VALUE=DATE:20250913
DTEND;VALUE=DATE:20250915
DTSTAMP:20260424T181219
CREATED:20250905T085055Z
LAST-MODIFIED:20250905T085055Z
UID:10031-1757721600-1757894399@www.stvf.ch
SUMMARY:Reise Frauen 35+
DESCRIPTION:Reise nach Brig. Übernachtung im Schlosshotel Brig.
URL:https://www.stvf.ch/veranstaltungen/reise-frauen-35/
CATEGORIES:Frauen 35+
ATTACH;FMTTYPE=image/webp:https://www.stvf.ch/wp-content/uploads/2025/09/Schlosshotel-Brig-mit-Stockalperpalast.jpg-1.webp
END:VEVENT
BEGIN:VEVENT
DTSTART;TZID=Europe/Zurich:20250904T000000
DTEND;TZID=Europe/Zurich:20250904T000000
DTSTAMP:20260424T181219
CREATED:20250218T160407Z
LAST-MODIFIED:20250218T160407Z
UID:9371-1756944000-1756944000@www.stvf.ch
SUMMARY:Grillhöck STVF
DESCRIPTION:Murgauenpark
URL:https://www.stvf.ch/veranstaltungen/grillhoeck-stvf/
LOCATION:Murgauen Park Frauenfeld
CATEGORIES:Gesamtverein
END:VEVENT
BEGIN:VEVENT
DTSTART;TZID=Europe/Zurich:20250808T190000
DTEND;TZID=Europe/Zurich:20250808T203000
DTSTAMP:20260424T181219
CREATED:20250418T193609Z
LAST-MODIFIED:20250418T193854Z
UID:9590-1754679600-1754685000@www.stvf.ch
SUMMARY:Freitagabend-Volleyball MF35+ auf der kleinen Allmend während Sommerschulferien
DESCRIPTION:Während den Sommerschulferien ist jeden Freitagabend ab 19:00 bei spielbarem Wetter Volleybalspiel für Alle auf der Sportanlage Kleine Allmend sofern die Umbauarbeiten der Anlage soweit fertiggestellt sind.
URL:https://www.stvf.ch/veranstaltungen/freitagabend-volleyball-mf35-auf-der-kleinen-allmend-waehrend-sommerschulferien-3/
LOCATION:Sportanlage Kleine Allmend
CATEGORIES:Männer-Fitness 35+
END:VEVENT
BEGIN:VEVENT
DTSTART;TZID=Europe/Zurich:20250725T190000
DTEND;TZID=Europe/Zurich:20250725T203000
DTSTAMP:20260424T181219
CREATED:20250418T193507Z
LAST-MODIFIED:20250418T193959Z
UID:9588-1753470000-1753475400@www.stvf.ch
SUMMARY:Freitagabend-Volleyball MF35+ auf der kleinen Allmend während Sommerschulferien
DESCRIPTION:Während den Sommerschulferien ist jeden Freitagabend ab 19:00 bei spielbarem Wetter Volleybalspiel für Alle auf der Sportanlage Kleine Allmend sofern die Umbauarbeiten der Anlage soweit fertiggestellt sind.
URL:https://www.stvf.ch/veranstaltungen/freitagabend-volleyball-mf35-auf-der-kleinen-allmend-waehrend-sommerschulferien-2/
LOCATION:Sportanlage Kleine Allmend
CATEGORIES:Männer-Fitness 35+
END:VEVENT
BEGIN:VEVENT
DTSTART;TZID=Europe/Zurich:20250718T190000
DTEND;TZID=Europe/Zurich:20250718T203000
DTSTAMP:20260424T181219
CREATED:20250418T193403Z
LAST-MODIFIED:20250418T194027Z
UID:9586-1752865200-1752870600@www.stvf.ch
SUMMARY:Freitagabend-Volleyball MF35+ auf der kleinen Allmend während Sommerschulferien
DESCRIPTION:Während den Sommerschulferien ist jeden Freitagabend ab 19:00 bei spielbarem Wetter Volleybalspiel für Alle auf der Sportanlage Kleine Allmend sofern die Umbauarbeiten der Anlage soweit fertiggestellt sind.
URL:https://www.stvf.ch/veranstaltungen/freitagabend-volleyball-mf35-auf-der-kleinen-allmend-waehrend-sommerschulferien/
LOCATION:Sportanlage Kleine Allmend
CATEGORIES:Männer-Fitness 35+
END:VEVENT
BEGIN:VEVENT
DTSTART;TZID=Europe/Zurich:20250716T160000
DTEND;TZID=Europe/Zurich:20250716T210000
DTSTAMP:20260424T181219
CREATED:20250713T135337Z
LAST-MODIFIED:20250713T140204Z
UID:9856-1752681600-1752699600@www.stvf.ch
SUMMARY:Sommer-Grill der Faustballer
DESCRIPTION:Auf Susis Rebland in Oberwil mit fantastischer Weitsicht wird wieder für die Faustballer der Kantiriege mit Gattinnen angerichtet sein. \nAb 16:00 wird eingerichtet\, sodass die von den Spenderinnen mitgebrachten Salate und Desserts ihren Platz finden. \nDenkt daran\, Teller und Besteck wiederum mitzubringen. So reduzieren wir den Abfallberg. \n//eb
URL:https://www.stvf.ch/veranstaltungen/sommer-grill-der-faustballer/
LOCATION:Oberwil bei Frauenfeld
CATEGORIES:Männer-Fitness III
END:VEVENT
BEGIN:VEVENT
DTSTART;TZID=Europe/Zurich:20250711T190000
DTEND;TZID=Europe/Zurich:20250711T203000
DTSTAMP:20260424T181219
CREATED:20250418T192643Z
LAST-MODIFIED:20250418T193052Z
UID:9579-1752260400-1752265800@www.stvf.ch
SUMMARY:Freitagabend-Volleyball MF35+ auf der kleinen Allmend während Sommerschulferien
DESCRIPTION:Während den Sommerschulferien ist jeden Freitagabend ab 19:00 bei spielbarem Wetter Volleybalspiel für Alle auf der Sportanlage Kleine Allmend sofern die Umbauarbeiten der Anlage soweit fertiggestellt sind. \nFreitag\, 11. Juli \nFreitag\, 18. Juli \nFreitag\, 25. Juli \nFreitag\, 1. August fällt aus \nFreitag\, 8. August
URL:https://www.stvf.ch/veranstaltungen/freitagabend-volleyball-auf-der-kleinen-allmend-waehrend-sommerschulferien/
LOCATION:Sportanlage Kleine Allmend
CATEGORIES:Männer-Fitness 35+
END:VEVENT
BEGIN:VEVENT
DTSTART;TZID=Europe/Zurich:20250704T190000
DTEND;TZID=Europe/Zurich:20250704T220000
DTSTAMP:20260424T181219
CREATED:20250418T123202Z
LAST-MODIFIED:20250418T213113Z
UID:9560-1751655600-1751666400@www.stvf.ch
SUMMARY:Velo Feierabend-Ausfahrt MF35+
DESCRIPTION:Mit der Feierabendausfahrt die Arbeitswoche abschliessen und die Sommerferien einläuten macht einfach Spass. Wohin es diesmal fährt – mit oder (nur noch hartgesottene) ohne Motor – weiss nur der Organisator der Riege Reutenen MF35+.  Dass ein kühles Bier oder ein Moscht am Ende winkt\, und die Wurst im Papiersack daher kommt\, ist\, wie immer\, hoffentlich gesetzt. Wir freuen uns darauf.
URL:https://www.stvf.ch/veranstaltungen/velo-feierabend-ausfahrt-mf35/
LOCATION:Rund um Frauenfeld
CATEGORIES:Männer-Fitness 35+
ATTACH;FMTTYPE=image/jpeg:https://www.stvf.ch/wp-content/uploads/2025/04/20230707_185757-scaled.jpg
END:VEVENT
BEGIN:VEVENT
DTSTART;TZID=Europe/Zurich:20250701T000000
DTEND;TZID=Europe/Zurich:20250701T000000
DTSTAMP:20260424T181219
CREATED:20250214T091211Z
LAST-MODIFIED:20250214T091211Z
UID:9348-1751328000-1751328000@www.stvf.ch
SUMMARY:Grillabend Abt. Frauen
DESCRIPTION:
URL:https://www.stvf.ch/veranstaltungen/grillabend-abt-frauen/
LOCATION:Heerenberg\, Heerenbergstrasse\, Frauenfeld\, 8500
CATEGORIES:Frauen
END:VEVENT
BEGIN:VEVENT
DTSTART;TZID=Europe/Zurich:20250612T000000
DTEND;TZID=Europe/Zurich:20250622T000000
DTSTAMP:20260424T181219
CREATED:20250317T084833Z
LAST-MODIFIED:20250317T084833Z
UID:9454-1749686400-1750550400@www.stvf.ch
SUMMARY:Eidgenössisches Turnfest Lausanne 2025
DESCRIPTION:Eröffnungsfeier 12. Juni\, Schlussfeier 22.Juni \nwww.lausanne2025.ch \nVerschiedene vom stvf nehmen teil\, an den Wettkämpfen. Auch ein kleines Fangrüppchen reist per VELO nach Lausanne an. \nDas Teamaerobic startet unter TV Guntershausen. \n 
URL:https://www.stvf.ch/veranstaltungen/eidgenoessisches-turnfest-lausanne-2025/
END:VEVENT
BEGIN:VEVENT
DTSTART;VALUE=DATE:20250529
DTEND;VALUE=DATE:20250530
DTSTAMP:20260424T181219
CREATED:20250418T114321Z
LAST-MODIFIED:20250423T152822Z
UID:9551-1748476800-1748563199@www.stvf.ch
SUMMARY:Auffahrtsbummel 2025 MF35+
DESCRIPTION:Der Immenberg\n\n\n\nProgramm in Kürze\n\nMit Postauto nach Wolfikon\, Wanderung nach Wetzikon\, weiter auf dem Immenberg im Wald zum Sonnenberg\, hinunter zum Rest. Freudenberg\, Mittagessen\, Verdauungsspaziergang zurück nach Frauenfeld .\n\n\nVarianten für jene\, die nicht das gesamte Programm mitmachen können/wollen:\nA Morgenwanderung\, Mittagessen\, mit Postauto zurück\nB Nur Mittagessen\, Hin und Rückfahrt mit Postauto\nC Mit Postauto zum Mittagessen\, Nachmittagswanderung\n\n\nBitte reserviert euch schon jetzt diesen Tag für die reizvolle Wanderung.
URL:https://www.stvf.ch/veranstaltungen/auffahrtsbummel-2025-mf35/
LOCATION:Restaurant Freudenberg\, Freudenberg27\, Stettfurt\, 9507
CATEGORIES:Männer-Fitness 35+
ATTACH;FMTTYPE=image/jpeg:https://www.stvf.ch/wp-content/uploads/2025/04/Immenberg_TG-scaled.jpg
END:VEVENT
BEGIN:VEVENT
DTSTART;TZID=Europe/Zurich:20250518T000000
DTEND;TZID=Europe/Zurich:20250518T000000
DTSTAMP:20260424T181219
CREATED:20250214T090535Z
LAST-MODIFIED:20250401T072736Z
UID:9346-1747526400-1747526400@www.stvf.ch
SUMMARY:Maibummel Abt. Frauen
DESCRIPTION:I. Stärkeklasse wandert ab Stammheim\, Haltestelle Frohsinn\,\n2. Stärkeklasse wandert ab Nussbaumen\, Haltestelle Tobelbrunnen\, nach Hüttwilen\, wo wir bei Mosterei Bussinger brunchen. \nWir freuen uns über jede Anmeldung und ein gemütliches Zusammensein. \nAnmelden bis 11.Mai 2025     frauen@stvf.ch \n 
URL:https://www.stvf.ch/veranstaltungen/maibummel-abt-frauen/
CATEGORIES:Frauen
END:VEVENT
BEGIN:VEVENT
DTSTART;TZID=Europe/Zurich:20250306T190000
DTEND;TZID=Europe/Zurich:20250306T220000
DTSTAMP:20260424T181219
CREATED:20240521T150607Z
LAST-MODIFIED:20241219T101141Z
UID:8608-1741287600-1741298400@www.stvf.ch
SUMMARY:Vereinsversammlung
DESCRIPTION:Als wichtige Information darfst du heute schon wissen\, dass an der Vereinsversammlung vom 6. März 2025 von unserem Eventteam eine STVF-Bar organisiert wird. \nErscheinst du im STVF-Shirt und/oder STVF-Jacke zur Versammlung\, erhältst du im Anschluss ein Gratis-Getränk an der Bar! \nUnser Lieferant wird zirka Ende Februar liefern können\, also rechtzeitig zur VV. 
URL:https://www.stvf.ch/veranstaltungen/vereinsversammlung/
LOCATION:Stadtgarten-Saal\, Stadtgartenweg 1\, Frauenfeld\, 8500\, Schweiz
CATEGORIES:Gesamtverein
END:VEVENT
BEGIN:VEVENT
DTSTART;TZID=Europe/Zurich:20250228T080000
DTEND;TZID=Europe/Zurich:20250302T170000
DTSTAMP:20260424T181219
CREATED:20240508T123440Z
LAST-MODIFIED:20240508T123440Z
UID:8590-1740729600-1740934800@www.stvf.ch
SUMMARY:Schneeweekend
DESCRIPTION:im Ferienhaus Hackbuel \n9018 Jakobsbad
URL:https://www.stvf.ch/veranstaltungen/schneeweekend/
CATEGORIES:Frauen 35+
END:VEVENT
BEGIN:VEVENT
DTSTART;TZID=Europe/Zurich:20250221T183000
DTEND;TZID=Europe/Zurich:20250221T220000
DTSTAMP:20260424T181219
CREATED:20240306T095706Z
LAST-MODIFIED:20240306T095706Z
UID:8350-1740162600-1740175200@www.stvf.ch
SUMMARY:Jahresversammlung Frauenriege
DESCRIPTION:
URL:https://www.stvf.ch/veranstaltungen/jahresversammlung-frauenriege/
CATEGORIES:Frauen 35+,Frauenriege
END:VEVENT
BEGIN:VEVENT
DTSTART;TZID=Europe/Zurich:20250220T140000
DTEND;TZID=Europe/Zurich:20250220T170000
DTSTAMP:20260424T181219
CREATED:20250114T113438Z
LAST-MODIFIED:20250114T113438Z
UID:9224-1740060000-1740070800@www.stvf.ch
SUMMARY:Jahresversammlung Turnveteranen
DESCRIPTION:Der Vorstand möchte euch herzlich zur diesjährigen Jahresversammlung am 20.02.2025 einladen.
URL:https://www.stvf.ch/veranstaltungen/jahresversammlung-turnveteranen/
LOCATION:Murgauen Park Frauenfeld
END:VEVENT
BEGIN:VEVENT
DTSTART;TZID=Europe/Zurich:20250213T193000
DTEND;TZID=Europe/Zurich:20250213T203000
DTSTAMP:20260424T181219
CREATED:20250128T103036Z
LAST-MODIFIED:20250128T103036Z
UID:9258-1739475000-1739478600@www.stvf.ch
SUMMARY:Abteilungsversammlung Frauen
DESCRIPTION:in der oberen Turnhalle\, Langdorf. Eingeladen sind: Plausch Aerobic\, Gymnastik 1 + 2\, Frauen 35+\, Frauen 1 + 2 \nNachher sind alle Frauen eingeladen bei  Gymnastik\, Marianne von Siebenthal\, mitzuturnen. Ab 20.30 Uhr. \nWir freuen uns auf euch.
URL:https://www.stvf.ch/veranstaltungen/abteilungsversammlung-frauen/
CATEGORIES:Frauen
END:VEVENT
BEGIN:VEVENT
DTSTART;TZID=Europe/Zurich:20250212T080000
DTEND;TZID=Europe/Zurich:20250212T170000
DTSTAMP:20260424T181219
CREATED:20250408T084350Z
LAST-MODIFIED:20250408T084350Z
UID:9299-1739347200-1739379600@www.stvf.ch
SUMMARY:Jahresversammlung 2025 Männer-Fitness 35+
DESCRIPTION:40 stimmberechtigte Männerturner folgten der Einladung des Vorstandes zur Jahresversammlung 2025 am Freitag\, 7. Februar\, ins Pflegezentrum Stadtgarten. Das traditionelle vorgängige Abendessen mit Salzisse und verschiedenen Salaten eröffnete den geselligen Abend mit Rückblick\, Ausblick und Wahlen. \nDiese Jahresversammlung 2025 stand ganz im Zeichen des Stabwechsels im Präsidium. Christoph Stäheli trat als Präsident zurück. Lange 18 Jahre war er im Vorstand aktiv\, davon 11 Jahre als dessen Aktuar. Die letzten 7 Jahre hat er als unser Präsident die Geschicke des Männerturnens geleitet. In seine präsidiale Zeit fiel insbesondere die Mitarbeit in der Projektgruppe zur Neuorganisation des Gesamtvereins\, die Erarbeitung unserer aktuellen Statuten und Reglemente. Das Regelwerk ist heute sowas von à jour. Christoph wurde mit gekonnten Reimen\, mit riesigem Früchtekorb und langanhaltendem Applaus aus seiner Verantwortung verabschiedet. \nAls neuer Präsident MF35+ konnte aus unseren eigenen Reihen Michael Drmic gewonnen werden. Mit grossem dankbarem Applaus wurde Michael als unser neuer Präsident willkommen geheissen. Ein grosses Dankeschön für die Übernahme dieser Aufgabe war an vielen Gesichtern abzulesen. \n  \n 
URL:https://www.stvf.ch/veranstaltungen/jahresversammlung-2025-maenner-fitness-35/
END:VEVENT
BEGIN:VEVENT
DTSTART;TZID=Europe/Zurich:20250207T183000
DTEND;TZID=Europe/Zurich:20250207T213000
DTSTAMP:20260424T181219
CREATED:20240420T130842Z
LAST-MODIFIED:20240420T130842Z
UID:8545-1738953000-1738963800@www.stvf.ch
SUMMARY:Jahresversammlung Männer-Fitness 35+
DESCRIPTION:
URL:https://www.stvf.ch/veranstaltungen/jahresversammlung-maenner-fitness-35/
LOCATION:Stadtgarten-Saal\, Stadtgartenweg 1\, Frauenfeld\, 8500\, Schweiz
END:VEVENT
BEGIN:VEVENT
DTSTART;TZID=Europe/Zurich:20250110T180000
DTEND;TZID=Europe/Zurich:20250110T200000
DTSTAMP:20260424T181219
CREATED:20241219T100221Z
LAST-MODIFIED:20241219T100221Z
UID:9141-1736532000-1736539200@www.stvf.ch
SUMMARY:Anprobe STVF-Kleider
DESCRIPTION:Freitag\, 10. Januar\, 18-20 Uhr \nSamstag\, 11. Januar\, 9-11 Uhr \nOrt: Erdgeschoss Stadtlabor\, Zürcherstrasse 158 Frauenfeld\, gleich neben der Raiffeisenbank \nParkmöglichkeiten sind eingeschränkt\, aber der Marktplatz ist ja ganz in der Nähe. \nBei Fragen steht dir Eveline Lang gerne zur Verfügung.\nSie organisiert die Anprobe seitens STVF.\n079 481 78 02 / eveline.lang@bluewin.ch \nWir hoffen auf reges Interesse und freuen uns auf viele rot-schwarz bekleidete Mitglieder an der Vereinsversammlung.
URL:https://www.stvf.ch/veranstaltungen/anprobe-stvf-kleider/
CATEGORIES:Gesamtverein
END:VEVENT
BEGIN:VEVENT
DTSTART;VALUE=DATE:20241130
DTEND;VALUE=DATE:20241201
DTSTAMP:20260424T181219
CREATED:20240420T122359Z
LAST-MODIFIED:20240420T123327Z
UID:8536-1732924800-1733011199@www.stvf.ch
SUMMARY:Abgeordnetenversammlung AV TGTV in Schlattingen
DESCRIPTION:Samstag\, 30. November 2024\nVeranstaltungsort\nRodenberghalle\n8255 Schlattingen \n\nOrganisator\nBasadingen DR
URL:https://www.stvf.ch/veranstaltungen/abgeordnetenversammlung-av-tgtv-in-schlattingen-30-november-2024/
END:VEVENT
BEGIN:VEVENT
DTSTART;TZID=Europe/Zurich:20241121T190000
DTEND;TZID=Europe/Zurich:20241121T200000
DTSTAMP:20260424T181219
CREATED:20240918T204909Z
LAST-MODIFIED:20241119T141256Z
UID:8893-1732215600-1732219200@www.stvf.ch
SUMMARY:a. o. Jahresversammlung Frauenriege
DESCRIPTION:Restaurant/Saal Plättlizoo \n19.00 Uhr Appell \n19.30 Uhr Abstimmung
URL:https://www.stvf.ch/veranstaltungen/a-o-jahresversammlung-frauenriege/
LOCATION:Restaurant Plättlizoo
CATEGORIES:Frauen 35+,Frauenriege
END:VEVENT
BEGIN:VEVENT
DTSTART;TZID=Europe/Zurich:20241003T173000
DTEND;TZID=Europe/Zurich:20241003T173000
DTSTAMP:20260424T181219
CREATED:20240614T132918Z
LAST-MODIFIED:20240710T172901Z
UID:8655-1727976600-1727976600@www.stvf.ch
SUMMARY:GRILLHOECK
DESCRIPTION:Einladung Grillhöck STVF  \nGesamtverein \nAnmelden bis 31.August
URL:https://www.stvf.ch/veranstaltungen/grillhoeck/
LOCATION:Murg-Auen-Park Frauenfeld\, Mühlewiesenstrasse\, Frauenfeld\, 8500\, Schweiz
END:VEVENT
BEGIN:VEVENT
DTSTART;TZID=Europe/Zurich:20240920T200000
DTEND;TZID=Europe/Zurich:20240920T220000
DTSTAMP:20260424T181219
CREATED:20240420T114713Z
LAST-MODIFIED:20240420T130032Z
UID:8527-1726862400-1726869600@www.stvf.ch
SUMMARY:TGTV Konferenz 2024 in Hüttwilen
DESCRIPTION:Die Konferenz TGTV vom 20. September 2024 findet in Hüttwilen in der Mehrzweckhalle statt von 20 Uhr bis 22 Uhr. Organisator TV Hüttwilen.
URL:https://www.stvf.ch/veranstaltungen/tgtv-konferenz-2024/
LOCATION:Hüttwilen MZH
ATTACH;FMTTYPE=image/jpeg:https://www.stvf.ch/wp-content/uploads/2024/04/Logo-neu-sw-ohne-Raster-vektorisiert-20162-page-0.jpg
END:VEVENT
BEGIN:VEVENT
DTSTART;VALUE=DATE:20240907
DTEND;VALUE=DATE:20240908
DTSTAMP:20260424T181219
CREATED:20240419T153028Z
LAST-MODIFIED:20240813T070145Z
UID:8520-1725667200-1725753599@www.stvf.ch
SUMMARY:ABGESAGT: Turnfahrt MF35+ vom 7. September 2024
DESCRIPTION:Die Kantiriege organisiert die diesjährige eintägige Turnfahrt für Samstag\, 7. September 2024. \nDie diesjährige Turnfahrt vom Samstag\, 7. September 2024\, ist abgesagt!
URL:https://www.stvf.ch/veranstaltungen/turnfahrt-mf35-im-september/
CATEGORIES:Männer-Fitness III
ATTACH;FMTTYPE=image/webp:https://www.stvf.ch/wp-content/uploads/2024/04/Uesslingen-Buch_Ostschweizer_Weinroute_Rebberge_ST_Herbstkampagne_21_2-jwawk8em0agv0d7.webp
END:VEVENT
BEGIN:VEVENT
DTSTART;VALUE=DATE:20240905
DTEND;VALUE=DATE:20240909
DTSTAMP:20260424T181219
CREATED:20231031T092427Z
LAST-MODIFIED:20231031T092427Z
UID:7959-1725494400-1725839999@www.stvf.ch
SUMMARY:Reise Frauen 35+ Bolognia u. Modena
DESCRIPTION:
URL:https://www.stvf.ch/veranstaltungen/reise-frauen-35-bolognia-u-modena/
CATEGORIES:Frauen 35+
END:VEVENT
END:VCALENDAR