BEGIN:VCALENDAR
VERSION:2.0
PRODID:-//Stadtturnverein Frauenfeld - STVF - ECPv6.15.20//NONSGML v1.0//EN
CALSCALE:GREGORIAN
METHOD:PUBLISH
X-WR-CALNAME:Stadtturnverein Frauenfeld - STVF
X-ORIGINAL-URL:https://www.stvf.ch
X-WR-CALDESC:Veranstaltungen im Stadtturnverein Frauenfeld - STVF
REFRESH-INTERVAL;VALUE=DURATION:PT1H
X-Robots-Tag:noindex
X-PUBLISHED-TTL:PT1H
BEGIN:VTIMEZONE
TZID:UTC
BEGIN:STANDARD
TZOFFSETFROM:+0000
TZOFFSETTO:+0000
TZNAME:UTC
DTSTART:20200101T000000
END:STANDARD
END:VTIMEZONE
BEGIN:VEVENT
DTSTART;VALUE=DATE:20211113
DTEND;VALUE=DATE:20211115
DTSTAMP:20260426T042253
CREATED:20210818T172108Z
LAST-MODIFIED:20210818T172108Z
UID:3586-1636761600-1636934399@www.stvf.ch
SUMMARY:SM Turnerinnen / Gerätefinals
DESCRIPTION:
URL:https://www.stvf.ch/veranstaltungen/sm-turnerinnen-geraetefinals/
LOCATION:Thurgau
ATTACH;FMTTYPE=image/jpeg:https://www.stvf.ch/wp-content/uploads/2021/08/Geraeteturnen.jpeg
END:VEVENT
BEGIN:VEVENT
DTSTART;VALUE=DATE:20211029
DTEND;VALUE=DATE:20211030
DTSTAMP:20260426T042253
CREATED:20210818T171731Z
LAST-MODIFIED:20210911T153352Z
UID:3584-1635465600-1635551999@www.stvf.ch
SUMMARY:Rangturnen Knaben
DESCRIPTION:Einmal im Jahr messen sich die Jugendriegen im Kanton Thurgau untereinander. Dafür werden an diesen Tagen während der Jugistunde von den Rieglern verschiedene Posten absolviert und ein bestmögliches Ergebnis versucht zu erzielen.
URL:https://www.stvf.ch/veranstaltungen/rangturnen-knaben-3/
LOCATION:Turnhalle Langdorf\, Frauenfeld\, Thurgau\, 8500\, Schweiz
CATEGORIES:Jugend,Knaben
ATTACH;FMTTYPE=image/jpeg:https://www.stvf.ch/wp-content/uploads/2021/08/Rangturnen-Knaben.jpg
END:VEVENT
BEGIN:VEVENT
DTSTART;TZID=UTC:20211013T180000
DTEND;TZID=UTC:20211013T191500
DTSTAMP:20260426T042253
CREATED:20210911T153722Z
LAST-MODIFIED:20210911T153728Z
UID:3717-1634148000-1634152500@www.stvf.ch
SUMMARY:Ferienpass
DESCRIPTION:Normalerweise findet während den Ferien keine Jugi statt. Doch für den Ferienpass öffnet die Jugi in den Herbstferien die Türen für sportbegeisterte Kinder\, die gerne mal im Verein schnuppern möchten.
URL:https://www.stvf.ch/veranstaltungen/ferienpass/
LOCATION:Turnhalle Langdorf\, Frauenfeld\, Thurgau\, 8500\, Schweiz
CATEGORIES:Knaben
END:VEVENT
BEGIN:VEVENT
DTSTART;TZID=UTC:20210911T080000
DTEND;TZID=UTC:20210912T170000
DTSTAMP:20260426T042253
CREATED:20210911T154152Z
LAST-MODIFIED:20210911T154152Z
UID:3727-1631347200-1631466000@www.stvf.ch
SUMMARY:Jugireise 2021
DESCRIPTION:Jedes Jahr im September geht die Jugi auf Reisen. Dieses Jahr wieder einmal zweitägig mit Übernachtung. Die Reise geht dieses Jahr in den Alpstein\, wo wir in einer urchigen Alphütte übernachten werden. Auf dem Programm steht Wandern\, gemeinsames Kochen\, Spiele spielen und die schöne Berglandschaft geniessen. Spass ist auf jeden Fall garantiert!
URL:https://www.stvf.ch/veranstaltungen/jugireise-2021/
LOCATION:Furgglenalp\, Appenzell Innenrhoden\, Appenzell\, Schweiz
CATEGORIES:Knaben
END:VEVENT
BEGIN:VEVENT
DTSTART;VALUE=DATE:20210911
DTEND;VALUE=DATE:20210912
DTSTAMP:20260426T042253
CREATED:20210829T203716Z
LAST-MODIFIED:20211008T145001Z
UID:3674-1631318400-1631404799@www.stvf.ch
SUMMARY:Herbstwanderung Männer Fitness +
DESCRIPTION:Eine abwechslungsreiche Wanderung im Bündnerland von ca. 4 Std. führt zum Zuckerstock und den Fläscher Seelein. Auf viele Teilnehmer freut sich der Organisator\, Kurt Frey. \n  \n   \nEinladung Herbstwanderung 2021 \n 
URL:https://www.stvf.ch/veranstaltungen/herbstwanderung-maenner-fitness/
LOCATION:Bündnerland
ATTACH;FMTTYPE=image/png:https://www.stvf.ch/wp-content/uploads/2021/08/Herbstwanderung-2021.png
END:VEVENT
BEGIN:VEVENT
DTSTART;TZID=UTC:20210903T180000
DTEND;TZID=UTC:20210903T233000
DTSTAMP:20260426T042253
CREATED:20210623T175542Z
LAST-MODIFIED:20210818T165600Z
UID:2853-1630692000-1630711800@www.stvf.ch
SUMMARY:Grillabend
DESCRIPTION:Grillabend für sämtliche Mitglieder des Stadtturnvereins Frauenfeld (STVF).
URL:https://www.stvf.ch/veranstaltungen/velotour-m35/
LOCATION:Murg-Auen-Park Frauenfeld\, Mühlewiesenstrasse\, Frauenfeld\, 8500\, Schweiz
ATTACH;FMTTYPE=image/jpeg:https://www.stvf.ch/wp-content/uploads/2021/06/stories_barbecue-accident-01.jpg
END:VEVENT
END:VCALENDAR