BEGIN:VCALENDAR
VERSION:2.0
PRODID:-//Stadtturnverein Frauenfeld - STVF - ECPv6.15.20//NONSGML v1.0//EN
CALSCALE:GREGORIAN
METHOD:PUBLISH
X-ORIGINAL-URL:https://www.stvf.ch
X-WR-CALDESC:Veranstaltungen im Stadtturnverein Frauenfeld - STVF
REFRESH-INTERVAL;VALUE=DURATION:PT1H
X-Robots-Tag:noindex
X-PUBLISHED-TTL:PT1H
BEGIN:VTIMEZONE
TZID:Europe/Zurich
BEGIN:DAYLIGHT
TZOFFSETFROM:+0100
TZOFFSETTO:+0200
TZNAME:CEST
DTSTART:20230326T010000
END:DAYLIGHT
BEGIN:STANDARD
TZOFFSETFROM:+0200
TZOFFSETTO:+0100
TZNAME:CET
DTSTART:20231029T010000
END:STANDARD
BEGIN:DAYLIGHT
TZOFFSETFROM:+0100
TZOFFSETTO:+0200
TZNAME:CEST
DTSTART:20240331T010000
END:DAYLIGHT
BEGIN:STANDARD
TZOFFSETFROM:+0200
TZOFFSETTO:+0100
TZNAME:CET
DTSTART:20241027T010000
END:STANDARD
BEGIN:DAYLIGHT
TZOFFSETFROM:+0100
TZOFFSETTO:+0200
TZNAME:CEST
DTSTART:20250330T010000
END:DAYLIGHT
BEGIN:STANDARD
TZOFFSETFROM:+0200
TZOFFSETTO:+0100
TZNAME:CET
DTSTART:20251026T010000
END:STANDARD
BEGIN:DAYLIGHT
TZOFFSETFROM:+0100
TZOFFSETTO:+0200
TZNAME:CEST
DTSTART:20260329T010000
END:DAYLIGHT
BEGIN:STANDARD
TZOFFSETFROM:+0200
TZOFFSETTO:+0100
TZNAME:CET
DTSTART:20261025T010000
END:STANDARD
END:VTIMEZONE
BEGIN:VEVENT
DTSTART;TZID=Europe/Zurich:20250228T080000
DTEND;TZID=Europe/Zurich:20250302T170000
DTSTAMP:20260424T163121
CREATED:20240508T123440Z
LAST-MODIFIED:20240508T123440Z
UID:8590-1740729600-1740934800@www.stvf.ch
SUMMARY:Schneeweekend
DESCRIPTION:im Ferienhaus Hackbuel \n9018 Jakobsbad
URL:https://www.stvf.ch/veranstaltungen/schneeweekend/
CATEGORIES:Frauen 35+
END:VEVENT
BEGIN:VEVENT
DTSTART;TZID=Europe/Zurich:20250221T183000
DTEND;TZID=Europe/Zurich:20250221T220000
DTSTAMP:20260424T163121
CREATED:20240306T095706Z
LAST-MODIFIED:20240306T095706Z
UID:8350-1740162600-1740175200@www.stvf.ch
SUMMARY:Jahresversammlung Frauenriege
DESCRIPTION:
URL:https://www.stvf.ch/veranstaltungen/jahresversammlung-frauenriege/
CATEGORIES:Frauen 35+,Frauenriege
END:VEVENT
BEGIN:VEVENT
DTSTART;TZID=Europe/Zurich:20250220T140000
DTEND;TZID=Europe/Zurich:20250220T170000
DTSTAMP:20260424T163121
CREATED:20250114T113438Z
LAST-MODIFIED:20250114T113438Z
UID:9224-1740060000-1740070800@www.stvf.ch
SUMMARY:Jahresversammlung Turnveteranen
DESCRIPTION:Der Vorstand möchte euch herzlich zur diesjährigen Jahresversammlung am 20.02.2025 einladen.
URL:https://www.stvf.ch/veranstaltungen/jahresversammlung-turnveteranen/
LOCATION:Murgauen Park Frauenfeld
END:VEVENT
BEGIN:VEVENT
DTSTART;TZID=Europe/Zurich:20250213T193000
DTEND;TZID=Europe/Zurich:20250213T203000
DTSTAMP:20260424T163121
CREATED:20250128T103036Z
LAST-MODIFIED:20250128T103036Z
UID:9258-1739475000-1739478600@www.stvf.ch
SUMMARY:Abteilungsversammlung Frauen
DESCRIPTION:in der oberen Turnhalle\, Langdorf. Eingeladen sind: Plausch Aerobic\, Gymnastik 1 + 2\, Frauen 35+\, Frauen 1 + 2 \nNachher sind alle Frauen eingeladen bei  Gymnastik\, Marianne von Siebenthal\, mitzuturnen. Ab 20.30 Uhr. \nWir freuen uns auf euch.
URL:https://www.stvf.ch/veranstaltungen/abteilungsversammlung-frauen/
CATEGORIES:Frauen
END:VEVENT
BEGIN:VEVENT
DTSTART;TZID=Europe/Zurich:20250212T080000
DTEND;TZID=Europe/Zurich:20250212T170000
DTSTAMP:20260424T163121
CREATED:20250408T084350Z
LAST-MODIFIED:20250408T084350Z
UID:9299-1739347200-1739379600@www.stvf.ch
SUMMARY:Jahresversammlung 2025 Männer-Fitness 35+
DESCRIPTION:40 stimmberechtigte Männerturner folgten der Einladung des Vorstandes zur Jahresversammlung 2025 am Freitag\, 7. Februar\, ins Pflegezentrum Stadtgarten. Das traditionelle vorgängige Abendessen mit Salzisse und verschiedenen Salaten eröffnete den geselligen Abend mit Rückblick\, Ausblick und Wahlen. \nDiese Jahresversammlung 2025 stand ganz im Zeichen des Stabwechsels im Präsidium. Christoph Stäheli trat als Präsident zurück. Lange 18 Jahre war er im Vorstand aktiv\, davon 11 Jahre als dessen Aktuar. Die letzten 7 Jahre hat er als unser Präsident die Geschicke des Männerturnens geleitet. In seine präsidiale Zeit fiel insbesondere die Mitarbeit in der Projektgruppe zur Neuorganisation des Gesamtvereins\, die Erarbeitung unserer aktuellen Statuten und Reglemente. Das Regelwerk ist heute sowas von à jour. Christoph wurde mit gekonnten Reimen\, mit riesigem Früchtekorb und langanhaltendem Applaus aus seiner Verantwortung verabschiedet. \nAls neuer Präsident MF35+ konnte aus unseren eigenen Reihen Michael Drmic gewonnen werden. Mit grossem dankbarem Applaus wurde Michael als unser neuer Präsident willkommen geheissen. Ein grosses Dankeschön für die Übernahme dieser Aufgabe war an vielen Gesichtern abzulesen. \n  \n 
URL:https://www.stvf.ch/veranstaltungen/jahresversammlung-2025-maenner-fitness-35/
END:VEVENT
BEGIN:VEVENT
DTSTART;TZID=Europe/Zurich:20250207T183000
DTEND;TZID=Europe/Zurich:20250207T213000
DTSTAMP:20260424T163121
CREATED:20240420T130842Z
LAST-MODIFIED:20240420T130842Z
UID:8545-1738953000-1738963800@www.stvf.ch
SUMMARY:Jahresversammlung Männer-Fitness 35+
DESCRIPTION:
URL:https://www.stvf.ch/veranstaltungen/jahresversammlung-maenner-fitness-35/
LOCATION:Stadtgarten-Saal\, Stadtgartenweg 1\, Frauenfeld\, 8500\, Schweiz
END:VEVENT
BEGIN:VEVENT
DTSTART;TZID=Europe/Zurich:20250110T180000
DTEND;TZID=Europe/Zurich:20250110T200000
DTSTAMP:20260424T163121
CREATED:20241219T100221Z
LAST-MODIFIED:20241219T100221Z
UID:9141-1736532000-1736539200@www.stvf.ch
SUMMARY:Anprobe STVF-Kleider
DESCRIPTION:Freitag\, 10. Januar\, 18-20 Uhr \nSamstag\, 11. Januar\, 9-11 Uhr \nOrt: Erdgeschoss Stadtlabor\, Zürcherstrasse 158 Frauenfeld\, gleich neben der Raiffeisenbank \nParkmöglichkeiten sind eingeschränkt\, aber der Marktplatz ist ja ganz in der Nähe. \nBei Fragen steht dir Eveline Lang gerne zur Verfügung.\nSie organisiert die Anprobe seitens STVF.\n079 481 78 02 / eveline.lang@bluewin.ch \nWir hoffen auf reges Interesse und freuen uns auf viele rot-schwarz bekleidete Mitglieder an der Vereinsversammlung.
URL:https://www.stvf.ch/veranstaltungen/anprobe-stvf-kleider/
CATEGORIES:Gesamtverein
END:VEVENT
BEGIN:VEVENT
DTSTART;VALUE=DATE:20241130
DTEND;VALUE=DATE:20241201
DTSTAMP:20260424T163121
CREATED:20240420T122359Z
LAST-MODIFIED:20240420T123327Z
UID:8536-1732924800-1733011199@www.stvf.ch
SUMMARY:Abgeordnetenversammlung AV TGTV in Schlattingen
DESCRIPTION:Samstag\, 30. November 2024\nVeranstaltungsort\nRodenberghalle\n8255 Schlattingen \n\nOrganisator\nBasadingen DR
URL:https://www.stvf.ch/veranstaltungen/abgeordnetenversammlung-av-tgtv-in-schlattingen-30-november-2024/
END:VEVENT
BEGIN:VEVENT
DTSTART;TZID=Europe/Zurich:20241121T190000
DTEND;TZID=Europe/Zurich:20241121T200000
DTSTAMP:20260424T163121
CREATED:20240918T204909Z
LAST-MODIFIED:20241119T141256Z
UID:8893-1732215600-1732219200@www.stvf.ch
SUMMARY:a. o. Jahresversammlung Frauenriege
DESCRIPTION:Restaurant/Saal Plättlizoo \n19.00 Uhr Appell \n19.30 Uhr Abstimmung
URL:https://www.stvf.ch/veranstaltungen/a-o-jahresversammlung-frauenriege/
LOCATION:Restaurant Plättlizoo
CATEGORIES:Frauen 35+,Frauenriege
END:VEVENT
BEGIN:VEVENT
DTSTART;TZID=Europe/Zurich:20241003T173000
DTEND;TZID=Europe/Zurich:20241003T173000
DTSTAMP:20260424T163121
CREATED:20240614T132918Z
LAST-MODIFIED:20240710T172901Z
UID:8655-1727976600-1727976600@www.stvf.ch
SUMMARY:GRILLHOECK
DESCRIPTION:Einladung Grillhöck STVF  \nGesamtverein \nAnmelden bis 31.August
URL:https://www.stvf.ch/veranstaltungen/grillhoeck/
LOCATION:Murg-Auen-Park Frauenfeld\, Mühlewiesenstrasse\, Frauenfeld\, 8500\, Schweiz
END:VEVENT
BEGIN:VEVENT
DTSTART;TZID=Europe/Zurich:20240920T200000
DTEND;TZID=Europe/Zurich:20240920T220000
DTSTAMP:20260424T163121
CREATED:20240420T114713Z
LAST-MODIFIED:20240420T130032Z
UID:8527-1726862400-1726869600@www.stvf.ch
SUMMARY:TGTV Konferenz 2024 in Hüttwilen
DESCRIPTION:Die Konferenz TGTV vom 20. September 2024 findet in Hüttwilen in der Mehrzweckhalle statt von 20 Uhr bis 22 Uhr. Organisator TV Hüttwilen.
URL:https://www.stvf.ch/veranstaltungen/tgtv-konferenz-2024/
LOCATION:Hüttwilen MZH
ATTACH;FMTTYPE=image/jpeg:https://www.stvf.ch/wp-content/uploads/2024/04/Logo-neu-sw-ohne-Raster-vektorisiert-20162-page-0.jpg
END:VEVENT
BEGIN:VEVENT
DTSTART;VALUE=DATE:20240907
DTEND;VALUE=DATE:20240908
DTSTAMP:20260424T163121
CREATED:20240419T153028Z
LAST-MODIFIED:20240813T070145Z
UID:8520-1725667200-1725753599@www.stvf.ch
SUMMARY:ABGESAGT: Turnfahrt MF35+ vom 7. September 2024
DESCRIPTION:Die Kantiriege organisiert die diesjährige eintägige Turnfahrt für Samstag\, 7. September 2024. \nDie diesjährige Turnfahrt vom Samstag\, 7. September 2024\, ist abgesagt!
URL:https://www.stvf.ch/veranstaltungen/turnfahrt-mf35-im-september/
CATEGORIES:Männer-Fitness III
ATTACH;FMTTYPE=image/webp:https://www.stvf.ch/wp-content/uploads/2024/04/Uesslingen-Buch_Ostschweizer_Weinroute_Rebberge_ST_Herbstkampagne_21_2-jwawk8em0agv0d7.webp
END:VEVENT
BEGIN:VEVENT
DTSTART;VALUE=DATE:20240905
DTEND;VALUE=DATE:20240909
DTSTAMP:20260424T163121
CREATED:20231031T092427Z
LAST-MODIFIED:20231031T092427Z
UID:7959-1725494400-1725839999@www.stvf.ch
SUMMARY:Reise Frauen 35+ Bolognia u. Modena
DESCRIPTION:
URL:https://www.stvf.ch/veranstaltungen/reise-frauen-35-bolognia-u-modena/
CATEGORIES:Frauen 35+
END:VEVENT
BEGIN:VEVENT
DTSTART;TZID=Europe/Zurich:20240824T160000
DTEND;TZID=Europe/Zurich:20240824T190000
DTSTAMP:20260424T163121
CREATED:20240419T151135Z
LAST-MODIFIED:20240420T123719Z
UID:8516-1724515200-1724526000@www.stvf.ch
SUMMARY:Frauenfelder Stadtlauf
DESCRIPTION:Wie jedes Jahr machen einige als Helfer oder Läufer mit.
URL:https://www.stvf.ch/veranstaltungen/frauenfelder-stadtlauf/
ATTACH;FMTTYPE=image/jpeg:https://www.stvf.ch/wp-content/uploads/2024/04/Frauenfelder-Stadtlauf_b.jpg
END:VEVENT
BEGIN:VEVENT
DTSTART;VALUE=DATE:20240818
DTEND;VALUE=DATE:20240819
DTSTAMP:20260424T163121
CREATED:20240419T145122Z
LAST-MODIFIED:20240419T150034Z
UID:8512-1723939200-1724025599@www.stvf.ch
SUMMARY:Spieltag des Thurgauer Turnverbandes
DESCRIPTION:Es  wird Volleyball und Faustball gespielt.
URL:https://www.stvf.ch/veranstaltungen/spieltag-des-thurgauer-turnverbandes/
ATTACH;FMTTYPE=image/jpeg:https://www.stvf.ch/wp-content/uploads/2024/04/img_large.jpg
END:VEVENT
BEGIN:VEVENT
DTSTART;TZID=Europe/Zurich:20240815T070000
DTEND;TZID=Europe/Zurich:20240827T170000
DTSTAMP:20260424T163121
CREATED:20240616T092742Z
LAST-MODIFIED:20240616T092742Z
UID:8661-1723705200-1724778000@www.stvf.ch
SUMMARY:Faustball Euro 2024  Helfer/innen gesucht
DESCRIPTION:Auf dem link seht ihr\, an welchen Tagen und Zeiten noch Helfereinsätze zur Verfügung stehen. Bei einer Anmeldung eines Einsatzes wählt ihr bitte\, Gruppe Stadtturnverein Frauenfeld \nFalls ihr euch innerhalb eurer Turngruppe absprecht und ein paar zusammen einen Zeitgleichen Einsatz leisten wollt\, dann bestimmt eine Gruppenchefin\, die direkt mit dem Personalverantwortlichen Kontakt aufnimmt. \nMarco Tenini\, personal@faustballeuro24.ch \nhttps://portal.helfereinsatz.ch/faustball-euro24/de/b/faustball-euro-2024/open \nVielen Dank.
URL:https://www.stvf.ch/veranstaltungen/faustball-euro-2024-helfer-innen-gesucht/
CATEGORIES:Gesamtverein
ATTACH;FMTTYPE=image/png:https://www.stvf.ch/wp-content/uploads/2024/06/Logo-Faustball-Euro.png
END:VEVENT
BEGIN:VEVENT
DTSTART;TZID=Europe/Zurich:20240705T190000
DTEND;TZID=Europe/Zurich:20240705T210000
DTSTAMP:20260424T163121
CREATED:20240419T142821Z
LAST-MODIFIED:20240419T142821Z
UID:8507-1720206000-1720213200@www.stvf.ch
SUMMARY:Velotour MF35+\, Feierabend-Ausfahrt
DESCRIPTION:Die Riege Langdorf organisiert die Feierabend-Ausfahrt mit anschliessendem Umtrunk.
URL:https://www.stvf.ch/veranstaltungen/velotour-mf35-feierabend-ausfahrt/
CATEGORIES:Männer-Fitness I
ATTACH;FMTTYPE=image/jpeg:https://www.stvf.ch/wp-content/uploads/2024/04/Feierabend-Fahrt.jpg
END:VEVENT
BEGIN:VEVENT
DTSTART;VALUE=DATE:20240701
DTEND;VALUE=DATE:20240702
DTSTAMP:20260424T163121
CREATED:20240227T155900Z
LAST-MODIFIED:20240227T155900Z
UID:8328-1719792000-1719878399@www.stvf.ch
SUMMARY:Grillabend Frauenriege
DESCRIPTION:organisiert von Montag-Riege
URL:https://www.stvf.ch/veranstaltungen/grillabend-frauenriege/
LOCATION:Heerenberg\, Heerenbergstrasse\, Frauenfeld\, 8500
CATEGORIES:Frauen 35+,Frauenriege
END:VEVENT
BEGIN:VEVENT
DTSTART;VALUE=DATE:20240628
DTEND;VALUE=DATE:20240701
DTSTAMP:20260424T163121
CREATED:20240419T131641Z
LAST-MODIFIED:20240419T143348Z
UID:8504-1719532800-1719791999@www.stvf.ch
SUMMARY:Kantonales Turnfest Arbon-Roggwil
DESCRIPTION:Mitwirkung diverser Riegen des Stadtturnvereins Frauenfeld.
URL:https://www.stvf.ch/veranstaltungen/kantonales-turnfest-arbon-roggwil/
LOCATION:Roggwil
CATEGORIES:Gesamtverein
ATTACH;FMTTYPE=image/png:https://www.stvf.ch/wp-content/uploads/2024/04/tkt_logo_horizontal_blau.png
END:VEVENT
BEGIN:VEVENT
DTSTART;VALUE=DATE:20240622
DTEND;VALUE=DATE:20240624
DTSTAMP:20260424T163121
CREATED:20240419T131719Z
LAST-MODIFIED:20240419T143415Z
UID:8499-1719014400-1719187199@www.stvf.ch
SUMMARY:Kantonales Turnfest Arbon-Roggwil
DESCRIPTION:Mitwirkung diverser Riegen des Stadtturnvereins Frauenfeld.
URL:https://www.stvf.ch/veranstaltungen/kantonales-turnfest-arbon-roggwil-2/
LOCATION:Roggwil
ATTACH;FMTTYPE=image/png:https://www.stvf.ch/wp-content/uploads/2024/04/tkt_logo_horizontal_blau.png
END:VEVENT
BEGIN:VEVENT
DTSTART;TZID=Europe/Zurich:20240613T180000
DTEND;TZID=Europe/Zurich:20240613T180000
DTSTAMP:20260424T163121
CREATED:20240227T160829Z
LAST-MODIFIED:20240306T095008Z
UID:8330-1718301600-1718301600@www.stvf.ch
SUMMARY:GV Landi Thula  Genossenschaft Helfereinsatz
DESCRIPTION:
URL:https://www.stvf.ch/veranstaltungen/gv-landi-helfereinsatz/
LOCATION:Festhalle Rüegerholz\, Festhüttenstrasse 1\, Frauenfeld\, Thurgau\, 8500\, Schweiz
CATEGORIES:Frauen 35+,Frauenriege
END:VEVENT
BEGIN:VEVENT
DTSTART;TZID=Europe/Zurich:20240613T100000
DTEND;TZID=Europe/Zurich:20240613T160000
DTSTAMP:20260424T163121
CREATED:20240319T182537Z
LAST-MODIFIED:20240319T182537Z
UID:8416-1718272800-1718294400@www.stvf.ch
SUMMARY:Vormittags-Wanderung mit Mittagessen
DESCRIPTION:13.06.2024      Vormittags-Wanderung ab 1000 Uhr mit Mittagessen
URL:https://www.stvf.ch/veranstaltungen/vormittags-wanderung-mit-mittagessen/
LOCATION:Armbrust Schützenhaus
END:VEVENT
BEGIN:VEVENT
DTSTART;VALUE=DATE:20240606
DTEND;VALUE=DATE:20240607
DTSTAMP:20260424T163121
CREATED:20240221T083603Z
LAST-MODIFIED:20240221T083603Z
UID:8290-1717632000-1717718399@www.stvf.ch
SUMMARY:Tagesausflug mit Partnerinnen
DESCRIPTION:06.06.2024\nTagesausflug mit Partnerinnen\nLeitung: Alois Leutenegger / Stv. Hansruedi Güttinger (Anmeldung erforderlich) \n 
URL:https://www.stvf.ch/veranstaltungen/tagesausflug-mit-partnerinnen/
LOCATION:Selisberg
END:VEVENT
BEGIN:VEVENT
DTSTART;VALUE=DATE:20240602
DTEND;VALUE=DATE:20240603
DTSTAMP:20260424T163121
CREATED:20240221T083310Z
LAST-MODIFIED:20240221T083310Z
UID:8287-1717286400-1717372799@www.stvf.ch
SUMMARY:Jahrestagung TGTVV
DESCRIPTION:02.06.2024\nJahrestagung TGTVV in Gachnang Islikon\nnicht direkt anmelden (Anmeldung über Köbi Debrunner) \n 
URL:https://www.stvf.ch/veranstaltungen/jahrestagung-tgtvv/
LOCATION:Gachnang
END:VEVENT
BEGIN:VEVENT
DTSTART;TZID=Europe/Zurich:20240530T153000
DTEND;TZID=Europe/Zurich:20240530T230000
DTSTAMP:20260424T163121
CREATED:20240110T093753Z
LAST-MODIFIED:20240110T093753Z
UID:8138-1717083000-1717110000@www.stvf.ch
SUMMARY:TKB Partizipantenversammlung Helfereinsatz
DESCRIPTION:
URL:https://www.stvf.ch/veranstaltungen/tkb-partizipantenversammlung-helfereinsatz/
CATEGORIES:Frauen 35+,Frauenriege
END:VEVENT
BEGIN:VEVENT
DTSTART;VALUE=DATE:20240509
DTEND;VALUE=DATE:20240510
DTSTAMP:20260424T163121
CREATED:20240419T121957Z
LAST-MODIFIED:20240420T120232Z
UID:8491-1715212800-1715299199@www.stvf.ch
SUMMARY:Auffahrtsbummel Donnerstag\, 9. Mai 2024
DESCRIPTION:Das Programm in Kurzform:\nWilerbahn Frauenfeld – Rosental\nBummel über die Anhöhe nach Lommis\nMittagessen Restaurant Krone Lommis\nBummel entlang der Lauche nach Steffurt\nRückfahrt nach Frauenfeld mit Postauto \nDas Programm ist so gewählt\, dass auch z.B. Senioren die anspruchslose Nachmittagswanderung mitmachen können\, die sich die vormittägliche Wanderung über die Anhöhe nicht mehr zutrauen. \nDie Seniorenriege freut sich auf zahlreiche Bummler.
URL:https://www.stvf.ch/veranstaltungen/auffahrtsbummel-9-mai-2024/
CATEGORIES:Männer-Fitness 35+
ATTACH;FMTTYPE=image/jpeg:https://www.stvf.ch/wp-content/uploads/2024/04/Auffahrtsbummel-2024_b.jpg
END:VEVENT
BEGIN:VEVENT
DTSTART;VALUE=DATE:20240505
DTEND;VALUE=DATE:20240506
DTSTAMP:20260424T163121
CREATED:20240205T094641Z
LAST-MODIFIED:20240227T155007Z
UID:8211-1714867200-1714953599@www.stvf.ch
SUMMARY:Maibummel/Brunch Frauenriege
DESCRIPTION:Brunch im Werk3
URL:https://www.stvf.ch/veranstaltungen/maibummel-frauenriege-2/
CATEGORIES:Frauen 35+,Frauenriege
END:VEVENT
BEGIN:VEVENT
DTSTART;VALUE=DATE:20240502
DTEND;VALUE=DATE:20240503
DTSTAMP:20260424T163121
CREATED:20240221T082947Z
LAST-MODIFIED:20240221T083019Z
UID:8282-1714608000-1714694399@www.stvf.ch
SUMMARY:Erste Tageswanderung Turnveteranen
DESCRIPTION:02.05.2024\nErste Tageswanderung\nKein Verschiebungsdatum\nLeitung: Hansruedi Güttinger (Anmeldung erforderlich) \n 
URL:https://www.stvf.ch/veranstaltungen/erste-tageswanderung-turnveteranen/
LOCATION:Uetliburg
END:VEVENT
BEGIN:VEVENT
DTSTART;TZID=Europe/Zurich:20240308T183000
DTEND;TZID=Europe/Zurich:20240308T183000
DTSTAMP:20260424T163121
CREATED:20240221T210322Z
LAST-MODIFIED:20240221T210541Z
UID:8299-1709922600-1709922600@www.stvf.ch
SUMMARY:Vereinsversammlung (VV) 2024
DESCRIPTION:Geschätzte Ehrenmitglieder\, geschätzte stimmberechtigte Mitglieder des Stadtturnvereins \nWir laden euch herzlich ein\, an der Vereinsversammlung (VV) des Stadtturnvereins Frauenfeld teilzunehmen.\nDie Traktandenliste sowie alle weiteren Infos habt ihr per E-Mail erhalten. \nAus organisatorischen Gründen bitten wir um eine An- bzw. Abmeldung bis spätestens 24. Februar 2024 über folgenden Link: https://forms.gle/QiRoJkjXwyAkCsqL8 \nNachtessen: 18.30 Uhr\nVersammlung: 19.30 Uhr
URL:https://www.stvf.ch/veranstaltungen/vereinsversammlung-vv-2024/
LOCATION:Stadtgarten-Saal\, Stadtgartenweg 1\, Frauenfeld\, 8500\, Schweiz
CATEGORIES:Gesamtverein
ATTACH;FMTTYPE=image/jpeg:https://www.stvf.ch/wp-content/uploads/2023/02/20230210_183905005_iOS-scaled.jpg
END:VEVENT
BEGIN:VEVENT
DTSTART;TZID=Europe/Zurich:20240307T133000
DTEND;TZID=Europe/Zurich:20240307T170000
DTSTAMP:20260424T163121
CREATED:20240221T082208Z
LAST-MODIFIED:20240221T083106Z
UID:8280-1709818200-1709830800@www.stvf.ch
SUMMARY:Frühlingsjassturnier Turnveteranen
DESCRIPTION:07.03.2024\n14.00 Uhr Frühlingsjassturnier im Schützenhaus Galgenholz\nLeitung: Alois Leutenegger / Stv. Hansruedi Güttinger (Anmeldung erforderlich)
URL:https://www.stvf.ch/veranstaltungen/fruehlingsjassturnier-turnveteranen/
LOCATION:Schützenstube Galgenholz
END:VEVENT
END:VCALENDAR