BEGIN:VCALENDAR
VERSION:2.0
PRODID:-//Stadtturnverein Frauenfeld - STVF - ECPv6.15.20//NONSGML v1.0//EN
CALSCALE:GREGORIAN
METHOD:PUBLISH
X-WR-CALNAME:Stadtturnverein Frauenfeld - STVF
X-ORIGINAL-URL:https://www.stvf.ch
X-WR-CALDESC:Veranstaltungen im Stadtturnverein Frauenfeld - STVF
REFRESH-INTERVAL;VALUE=DURATION:PT1H
X-Robots-Tag:noindex
X-PUBLISHED-TTL:PT1H
BEGIN:VTIMEZONE
TZID:Europe/Zurich
BEGIN:DAYLIGHT
TZOFFSETFROM:+0100
TZOFFSETTO:+0200
TZNAME:CEST
DTSTART:20210328T010000
END:DAYLIGHT
BEGIN:STANDARD
TZOFFSETFROM:+0200
TZOFFSETTO:+0100
TZNAME:CET
DTSTART:20211031T010000
END:STANDARD
BEGIN:DAYLIGHT
TZOFFSETFROM:+0100
TZOFFSETTO:+0200
TZNAME:CEST
DTSTART:20220327T010000
END:DAYLIGHT
BEGIN:STANDARD
TZOFFSETFROM:+0200
TZOFFSETTO:+0100
TZNAME:CET
DTSTART:20221030T010000
END:STANDARD
BEGIN:DAYLIGHT
TZOFFSETFROM:+0100
TZOFFSETTO:+0200
TZNAME:CEST
DTSTART:20230326T010000
END:DAYLIGHT
BEGIN:STANDARD
TZOFFSETFROM:+0200
TZOFFSETTO:+0100
TZNAME:CET
DTSTART:20231029T010000
END:STANDARD
BEGIN:DAYLIGHT
TZOFFSETFROM:+0100
TZOFFSETTO:+0200
TZNAME:CEST
DTSTART:20240331T010000
END:DAYLIGHT
BEGIN:STANDARD
TZOFFSETFROM:+0200
TZOFFSETTO:+0100
TZNAME:CET
DTSTART:20241027T010000
END:STANDARD
BEGIN:DAYLIGHT
TZOFFSETFROM:+0100
TZOFFSETTO:+0200
TZNAME:CEST
DTSTART:20250330T010000
END:DAYLIGHT
BEGIN:STANDARD
TZOFFSETFROM:+0200
TZOFFSETTO:+0100
TZNAME:CET
DTSTART:20251026T010000
END:STANDARD
END:VTIMEZONE
BEGIN:VEVENT
DTSTART;VALUE=DATE:20240502
DTEND;VALUE=DATE:20240503
DTSTAMP:20260425T181358
CREATED:20240221T082947Z
LAST-MODIFIED:20240221T083019Z
UID:8282-1714608000-1714694399@www.stvf.ch
SUMMARY:Erste Tageswanderung Turnveteranen
DESCRIPTION:02.05.2024\nErste Tageswanderung\nKein Verschiebungsdatum\nLeitung: Hansruedi Güttinger (Anmeldung erforderlich) \n 
URL:https://www.stvf.ch/veranstaltungen/erste-tageswanderung-turnveteranen/
LOCATION:Uetliburg
END:VEVENT
BEGIN:VEVENT
DTSTART;TZID=Europe/Zurich:20240308T183000
DTEND;TZID=Europe/Zurich:20240308T183000
DTSTAMP:20260425T181358
CREATED:20240221T210322Z
LAST-MODIFIED:20240221T210541Z
UID:8299-1709922600-1709922600@www.stvf.ch
SUMMARY:Vereinsversammlung (VV) 2024
DESCRIPTION:Geschätzte Ehrenmitglieder\, geschätzte stimmberechtigte Mitglieder des Stadtturnvereins \nWir laden euch herzlich ein\, an der Vereinsversammlung (VV) des Stadtturnvereins Frauenfeld teilzunehmen.\nDie Traktandenliste sowie alle weiteren Infos habt ihr per E-Mail erhalten. \nAus organisatorischen Gründen bitten wir um eine An- bzw. Abmeldung bis spätestens 24. Februar 2024 über folgenden Link: https://forms.gle/QiRoJkjXwyAkCsqL8 \nNachtessen: 18.30 Uhr\nVersammlung: 19.30 Uhr
URL:https://www.stvf.ch/veranstaltungen/vereinsversammlung-vv-2024/
LOCATION:Stadtgarten-Saal\, Stadtgartenweg 1\, Frauenfeld\, 8500\, Schweiz
CATEGORIES:Gesamtverein
ATTACH;FMTTYPE=image/jpeg:https://www.stvf.ch/wp-content/uploads/2023/02/20230210_183905005_iOS-scaled.jpg
END:VEVENT
BEGIN:VEVENT
DTSTART;TZID=Europe/Zurich:20240307T133000
DTEND;TZID=Europe/Zurich:20240307T170000
DTSTAMP:20260425T181358
CREATED:20240221T082208Z
LAST-MODIFIED:20240221T083106Z
UID:8280-1709818200-1709830800@www.stvf.ch
SUMMARY:Frühlingsjassturnier Turnveteranen
DESCRIPTION:07.03.2024\n14.00 Uhr Frühlingsjassturnier im Schützenhaus Galgenholz\nLeitung: Alois Leutenegger / Stv. Hansruedi Güttinger (Anmeldung erforderlich)
URL:https://www.stvf.ch/veranstaltungen/fruehlingsjassturnier-turnveteranen/
LOCATION:Schützenstube Galgenholz
END:VEVENT
BEGIN:VEVENT
DTSTART;VALUE=DATE:20240301
DTEND;VALUE=DATE:20240304
DTSTAMP:20260425T181358
CREATED:20240110T092949Z
LAST-MODIFIED:20240110T092949Z
UID:8135-1709251200-1709510399@www.stvf.ch
SUMMARY:Winterwochenende Wildhaus
DESCRIPTION:
URL:https://www.stvf.ch/veranstaltungen/winterwochenende-wildhaus/
CATEGORIES:Frauen 35+
END:VEVENT
BEGIN:VEVENT
DTSTART;VALUE=DATE:20240223
DTEND;VALUE=DATE:20240224
DTSTAMP:20260425T181358
CREATED:20231031T091011Z
LAST-MODIFIED:20240205T095152Z
UID:7957-1708646400-1708732799@www.stvf.ch
SUMMARY:Jahresversammlung der Frauenriege
DESCRIPTION:Stadtgarten \, Frauenfeld \nAppell ab 18.30 Uhr\, Nachtessen 19.00 Uhr für angemeldete Teilnehmerinnen\, Jahresversammlung Beginn 20.15 Uhr
URL:https://www.stvf.ch/veranstaltungen/jahresversammlung-der-frauenriege/
CATEGORIES:Frauen 35+,Frauenriege
END:VEVENT
BEGIN:VEVENT
DTSTART;TZID=Europe/Zurich:20240215T080000
DTEND;TZID=Europe/Zurich:20240215T170000
DTSTAMP:20260425T181358
CREATED:20230220T163954Z
LAST-MODIFIED:20230510T073653Z
UID:7000-1707984000-1708016400@www.stvf.ch
SUMMARY:Jahresversammlung Turnveteranen
DESCRIPTION:15.02.2024      14.00 Uhr Jahresversammlung\n                              im Murg-Auen-Park
URL:https://www.stvf.ch/veranstaltungen/15-02-2024-jahresversammlung-turnveteranen/
LOCATION:Murgauen Park Frauenfeld
END:VEVENT
BEGIN:VEVENT
DTSTART;TZID=Europe/Zurich:20240209T183000
DTEND;TZID=Europe/Zurich:20240209T220000
DTSTAMP:20260425T181358
CREATED:20230227T213825Z
LAST-MODIFIED:20240202T135625Z
UID:7126-1707503400-1707516000@www.stvf.ch
SUMMARY:Jahresversammlung 2024 der MF35+
DESCRIPTION:Die Jahresversammlung 2024 Männer-Fitness35+ findet am Freitag\, 9. Februar 2024\, ab 18:30 Uhr\, im Pflegezentrum Stadtgarten\, statt. \n18:30 Imbiss für angemeldete Teilnehmer \n19:30 Beginn Jahresversammlung
URL:https://www.stvf.ch/veranstaltungen/jahresversammlung-mf35-2/
CATEGORIES:Männer-Fitness 35+
ATTACH;FMTTYPE=image/jpeg:https://www.stvf.ch/wp-content/uploads/2023/02/20230210_183003186_iOS-scaled.jpg
END:VEVENT
BEGIN:VEVENT
DTSTART;TZID=Europe/Zurich:20231221T133000
DTEND;TZID=Europe/Zurich:20231221T170000
DTSTAMP:20260425T181358
CREATED:20230220T163705Z
LAST-MODIFIED:20230317T215312Z
UID:6998-1703165400-1703178000@www.stvf.ch
SUMMARY:Letzte Donnerstagswanderung 2023
DESCRIPTION:21.12.2023   Letzte Donnerstagswanderung 2023\nStrecke und Ziel noch nicht bekannt
URL:https://www.stvf.ch/veranstaltungen/21-12-2023-letzte-donnerstagswanderung-2023/
END:VEVENT
BEGIN:VEVENT
DTSTART;TZID=Europe/Zurich:20231207T140000
DTEND;TZID=Europe/Zurich:20231207T180000
DTSTAMP:20260425T181358
CREATED:20230220T163457Z
LAST-MODIFIED:20230317T215400Z
UID:6994-1701957600-1701972000@www.stvf.ch
SUMMARY:Veteranen Chlausjassturnier
DESCRIPTION:07.12.2023      14.00 Uhr Veteranen Chlausjassturnier\nim Schützenhaus Schollenholz\nLeitung: Ruedi Stettler und Richi Wagner
URL:https://www.stvf.ch/veranstaltungen/07-12-2023-veteranen-chlausjassturnier/
LOCATION:Ruedi Stettler / Richi WAgner
END:VEVENT
BEGIN:VEVENT
DTSTART;TZID=Europe/Zurich:20231130T140000
DTEND;TZID=Europe/Zurich:20231130T180000
DTSTAMP:20260425T181358
CREATED:20230220T163234Z
LAST-MODIFIED:20230317T215338Z
UID:6991-1701352800-1701367200@www.stvf.ch
SUMMARY:Anlass mit Partnerinnen
DESCRIPTION:30.11.2023  Anlass mit Partnerinnen\nCasino Frauenfeld Leitung: Obmannschaft (Anmeldung erforderlich)
URL:https://www.stvf.ch/veranstaltungen/30-11-2023-anlass-mit-partnerinnen/
LOCATION:Casino Frauenfeld\, Bahnhofsplatz 76b\, Frauenfeld\, 8500
END:VEVENT
BEGIN:VEVENT
DTSTART;VALUE=DATE:20231012
DTEND;VALUE=DATE:20231013
DTSTAMP:20260425T181358
CREATED:20230220T163019Z
LAST-MODIFIED:20230317T215424Z
UID:6988-1697068800-1697155199@www.stvf.ch
SUMMARY:Ausflug mit Gruppen Tageskarte
DESCRIPTION:12.10.2023 Ausflug mit Gruppen Tageskarte\nLeitung: Köbi Debrunner / Hansruedi Güttinger (Anmeldung erforderlich)
URL:https://www.stvf.ch/veranstaltungen/12-10-2023-ausflug-mit-gruppen-tageskarte/
END:VEVENT
BEGIN:VEVENT
DTSTART;VALUE=DATE:20230928
DTEND;VALUE=DATE:20230929
DTSTAMP:20260425T181358
CREATED:20230220T162742Z
LAST-MODIFIED:20230317T215440Z
UID:6986-1695859200-1695945599@www.stvf.ch
SUMMARY:Besichtigung Gonzenbergwerk
DESCRIPTION:28.09.2023 Besichtigung Gonzenbergwerk\nLeitung: Köbi Debrunner / Röbi Kern (Anmeldung erforderlich) \nProgramm Ausflug zum Bergwerk Gonzen \n08.00 Uhr     Abfahrt mit Seiler Car nach Gonzen\n1000 Uhr      Beginn der Führung\nEs gibt 2 Gruppen. Marschzeit ca. 1 Std.\nEine Gruppe mit Treppen steigen eine ohne\n1230 Uhr      Ende der Führung mit anschliessendem Mittagessen\n1500 Uhr      Rückfahrt über Ricken\n1730 Uhr      Ankunft in Frauenfeld
URL:https://www.stvf.ch/veranstaltungen/28-09-2023-besichtigung-gonzenbergwerk/
END:VEVENT
BEGIN:VEVENT
DTSTART;VALUE=DATE:20230923
DTEND;VALUE=DATE:20230925
DTSTAMP:20260425T181358
CREATED:20230227T211452Z
LAST-MODIFIED:20230716T202431Z
UID:7122-1695427200-1695599999@www.stvf.ch
SUMMARY:Herbstwanderung MF35+
DESCRIPTION:Kurt Frey hat für diesmal etwas ganz Besonderes herausgesucht: » Auf einer der schönsten Gratwanderwege der Schweiz kommt man in den Genuss einer atemberaubenden Aussicht auf die Zentralschweizer Berg- und Seenwelt.» Das Programm gibt Auskunft. \nProgramm Herbstreise_2023_MF35+ \n  \n  \n 
URL:https://www.stvf.ch/veranstaltungen/turnfahrt-mf35-2/
CATEGORIES:Männer-Fitness 35+
ATTACH;FMTTYPE=image/png:https://www.stvf.ch/wp-content/uploads/2023/06/klingenstock_fronalpstock_wanderweg.png
END:VEVENT
BEGIN:VEVENT
DTSTART;VALUE=DATE:20230907
DTEND;VALUE=DATE:20230908
DTSTAMP:20260425T181358
CREATED:20230220T162313Z
LAST-MODIFIED:20230317T215506Z
UID:6984-1694044800-1694131199@www.stvf.ch
SUMMARY:Zweite Tageswanderung
DESCRIPTION:07.09.2023  Zweite Tageswanderung\nLeitung: Hansruedi Güttinger (Anmeldung erforderlich) \n 
URL:https://www.stvf.ch/veranstaltungen/07-09-2023-zweite-tageswanderung/
END:VEVENT
BEGIN:VEVENT
DTSTART;VALUE=DATE:20230826
DTEND;VALUE=DATE:20230827
DTSTAMP:20260425T181358
CREATED:20230227T211028Z
LAST-MODIFIED:20230227T211028Z
UID:7120-1693008000-1693094399@www.stvf.ch
SUMMARY:Stadtlauf in Frauenfeld
DESCRIPTION:Wir sind im Einsatz als Helfer und auch als Läufer.
URL:https://www.stvf.ch/veranstaltungen/stadtlauf-in-frauenfeld/
END:VEVENT
BEGIN:VEVENT
DTSTART;VALUE=DATE:20230820
DTEND;VALUE=DATE:20230821
DTSTAMP:20260425T181358
CREATED:20230227T210237Z
LAST-MODIFIED:20230227T210713Z
UID:7116-1692489600-1692575999@www.stvf.ch
SUMMARY:TG Spieltag in Amriswil
DESCRIPTION:Am Thurgauer Spieltag 2023 in Amriswil wird Faustball und Volleyball gespielt. Organisator ist der TV Amriswil.
URL:https://www.stvf.ch/veranstaltungen/tg-spieltag/
CATEGORIES:Männer-Fitness 35+
END:VEVENT
BEGIN:VEVENT
DTSTART;TZID=Europe/Zurich:20230707T190000
DTEND;TZID=Europe/Zurich:20230707T220000
DTSTAMP:20260425T181358
CREATED:20230227T201031Z
LAST-MODIFIED:20230622T140750Z
UID:7105-1688756400-1688767200@www.stvf.ch
SUMMARY:Feierabend-Velotour MF35+
DESCRIPTION:Liebe Mitglieder Männer-Fitness 35+ \nAm Freitag 7. Juli 2023 findet unsere jährliche Velotour statt. Alle Mitglieder (Aktive und Passive) sind herzlich eingeladen. \nWir treffen uns um 19.00 Uhr beim Schulhaus Langdorf. Die Tour dauert ca. 1 ½ Stunden.\nEs ist eine flache Strecke\, die über Neben- und Naturstrassen führt.\nAm Ziel offeriert der Verein jedem Teilnehmer eine Wurst. Getränke sind selber zu bezahlen. \nOrganisiert hat die diesjährige Tour die Riege der Kantonsschule. Herzlichen Dank an Chrigel und Paul. \nDieses Mal braucht es keine Anmeldung.\nWir freuen uns auf eine rege Teilnahme. Auch E-Biker sind herzlich willkommen. \nEs grüsst euch\nChristoph Stäheli\, Präsident ai
URL:https://www.stvf.ch/veranstaltungen/velotour-mf35-7-juli-2023/
CATEGORIES:Männer-Fitness 35+
ATTACH;FMTTYPE=image/jpeg:https://www.stvf.ch/wp-content/uploads/2021/11/DSC02284_b-4.jpg
END:VEVENT
BEGIN:VEVENT
DTSTART;VALUE=DATE:20230704
DTEND;VALUE=DATE:20230705
DTSTAMP:20260425T181358
CREATED:20230510T082120Z
LAST-MODIFIED:20230607T123210Z
UID:7382-1688428800-1688515199@www.stvf.ch
SUMMARY:GRillABEND HEERENBERG FRAUENRIEGE
DESCRIPTION:Um 18Uhr starten wir mit dem Apéro\, danach kann jede die selber mitgebrachte Grillade über der Glut zum Geschmackserlebnis führen.\nNebst dem Apéro ist für Getränke\, Kaffe und Kuchen gesorgt. \nNebst der Grillade müsst ihr also nur Lust & Laune einpacken und allenfalls das nötige Werkzeug für euren Znacht mitnehmen. \nEine Anmeldung ist nicht erforderlich. Wir vom Vorstand freuen uns auf viele Frauenrieglerinnen und auf ein paar lustige gemeinsame Stunden.
URL:https://www.stvf.ch/veranstaltungen/grillabend-heerenberg/
LOCATION:Heerenberg\, Heerenbergstrasse\, Frauenfeld\, 8500
CATEGORIES:Frauen 35+,Frauenriege
END:VEVENT
BEGIN:VEVENT
DTSTART;VALUE=DATE:20230622
DTEND;VALUE=DATE:20230623
DTSTAMP:20260425T181358
CREATED:20230220T162038Z
LAST-MODIFIED:20230317T215627Z
UID:6982-1687392000-1687478399@www.stvf.ch
SUMMARY:Tagesausflug mit Partnerinnen
DESCRIPTION:22.06.2023  Tagesausflug mit Partnerinnen zu den Donauquellen\nLeitung: Alois Leutenegger / Stv. Hansruedi Güttinger (Anmeldung erforderlich)
URL:https://www.stvf.ch/veranstaltungen/22-06-2023-tagesausflug-mit-partnerinnen/
END:VEVENT
BEGIN:VEVENT
DTSTART;VALUE=DATE:20230604
DTEND;VALUE=DATE:20230605
DTSTAMP:20260425T181358
CREATED:20230220T161611Z
LAST-MODIFIED:20230317T215645Z
UID:6979-1685836800-1685923199@www.stvf.ch
SUMMARY:Jahrestagung TGTVV
DESCRIPTION:04.06.2023      Jahrestagung TGTVV in Sulgen Anmeldung erforderlich)\nAuholz-Halle Sulgen
URL:https://www.stvf.ch/veranstaltungen/04-06-2023-jahrestagung-tgtvv/
END:VEVENT
BEGIN:VEVENT
DTSTART;VALUE=DATE:20230603
DTEND;VALUE=DATE:20230605
DTSTAMP:20260425T181358
CREATED:20230227T205644Z
LAST-MODIFIED:20230227T205644Z
UID:7113-1685750400-1685923199@www.stvf.ch
SUMMARY:Helfereinsatz am Historischer Handwerker- und Warenmarkt\, Wellenberg
DESCRIPTION:Am Historischer Handwerker- und Warenmarkt\, Wellenberg leisten wir einen Helfereinsatz. \n  \n 
URL:https://www.stvf.ch/veranstaltungen/helfereinsatz-am-historischer-handwerker-und-warenmarkt-wellenberg/
CATEGORIES:Männer-Fitness 35+
END:VEVENT
BEGIN:VEVENT
DTSTART;TZID=Europe/Zurich:20230525T100000
DTEND;TZID=Europe/Zurich:20230525T160000
DTSTAMP:20260425T181358
CREATED:20230220T161337Z
LAST-MODIFIED:20230317T215710Z
UID:6977-1685008800-1685030400@www.stvf.ch
SUMMARY:Vormittags-Wanderung
DESCRIPTION:25.05.2023      Vormittags-Wanderung ab 1000 Uhr mit Mittagessen\nLeitung: Röbi Kern / Roland Lehmann (Anmeldung erforderlich) \n 
URL:https://www.stvf.ch/veranstaltungen/25-05-2023-vormittags-wanderung/
END:VEVENT
BEGIN:VEVENT
DTSTART;VALUE=DATE:20230518
DTEND;VALUE=DATE:20230519
DTSTAMP:20260425T181358
CREATED:20230227T180333Z
LAST-MODIFIED:20230511T143744Z
UID:7099-1684368000-1684454399@www.stvf.ch
SUMMARY:Auffahrtsbummel MF35+
DESCRIPTION:Auffahrtsbummel am Donnerstag\, 18. Mai 2023 \nAndreas Robel\, Co-Leiter Riege Langdorf\, organisiert zusammen mit Esther dieses Jahr den Auffahrtsbummel. \nHerzlichen Dank an die beiden Organisatoren! \nAlle Männer-Fitnessler sind mit oder ohne «Anhang» herzlich willkommen. Die Wanderung wird bei jedem Wetter durchgeführt. \nTreffpunkt: Donnerstag\, 18. Mai 2023\, um 08.35 Uhr\, Kante F\, Bushaltestelle\, Bahnhof Frauenfeld\, Busbillett gekauft bis Uesslingen Thurbrücke \nAbfahrt: 08:46 Uhr\, Buslinie 822 Richtung Oberneunforn \nDie Wanderzeit bis zum Kaffeehalt dauert ca. 1 Stunde. Dann nochmals 1 Stunde bis zum Mittagshalt mit Mittagessen\, das ungefähr um 12:00 Uhr stattfindet. \nDer Auffahrtsbummel findet auf gut ausgebauten Wegen\, in einer schönen Landschaft und ohne grosse Steigungen statt (eventuell Wanderstöcke mitnehmen). Auf ca. 100m ist der Weg einmal vollständig mit Gras bewachsen. \nNach dem Mittagessen ist es möglich\, mit dem Bus heimzukehren. Natürlich kann auch zum Ausgangspunkt zurückgewandert werden (ca. 1 1/2 Stunden) → sehr empfehlenswert! \nFür Kaffeehalt und Mittagessen wird ein Unkostenbeitrag von CHF 20.– pro Person erhoben\, der beim Mittagessen eingezogen wird. \nWir freuen uns über eine rege Teilnahme. \nAnmeldung bis Sonntag\, 14. Mai 2023 an:\nBitte angeben: □ normales Menü □ Vegi-Menü gewünscht wird\nper Mail: andreas.robel@bluewin.ch\noder\nAndreas Robel\, Wiesenstr. 10\, 8500 Frauenfeld\, Tel 052 70 46 16 / 079 338 93 87
URL:https://www.stvf.ch/veranstaltungen/auffahrtsbummel-18-mai-2023/
CATEGORIES:Männer-Fitness 35+
ATTACH;FMTTYPE=image/jpeg:https://www.stvf.ch/wp-content/uploads/2023/02/Auffahrtsbummel.jpg
END:VEVENT
BEGIN:VEVENT
DTSTART;VALUE=DATE:20230507
DTEND;VALUE=DATE:20230508
DTSTAMP:20260425T181358
CREATED:20230413T144415Z
LAST-MODIFIED:20230413T144415Z
UID:7283-1683417600-1683503999@www.stvf.ch
SUMMARY:Maibummel Frauenriege
DESCRIPTION:
URL:https://www.stvf.ch/veranstaltungen/maibummel-frauenriege/
CATEGORIES:Frauen 35+,Frauenriege
END:VEVENT
BEGIN:VEVENT
DTSTART;VALUE=DATE:20230504
DTEND;VALUE=DATE:20230505
DTSTAMP:20260425T181358
CREATED:20230220T161107Z
LAST-MODIFIED:20230317T215748Z
UID:6974-1683158400-1683244799@www.stvf.ch
SUMMARY:Erste Tageswanderung
DESCRIPTION:04.05.2023               Erste Tageswanderung\nKein Verschiebungsdatum\nLeitung: Hansruedi Güttinger (Anmeldung erforderlich)
URL:https://www.stvf.ch/veranstaltungen/04-05-2023-erste-tageswanderung/
END:VEVENT
BEGIN:VEVENT
DTSTART;TZID=Europe/Zurich:20230311T120000
DTEND;TZID=Europe/Zurich:20230311T190000
DTSTAMP:20260425T181358
CREATED:20230227T204001Z
LAST-MODIFIED:20230227T221127Z
UID:7109-1678536000-1678561200@www.stvf.ch
SUMMARY:Volleballturnier STV Frauenfeld Kantihalle
DESCRIPTION:Die Volleyball-Riegen des STVF organisieren wiederum das offene Frühlings-Volleyballturnier in der Kantihalle am Samstag\, 11. März 2023\, ab 12:00 Uhr. Zuschauer sind herzlich willkommen.
URL:https://www.stvf.ch/veranstaltungen/volleballturnier-stv-frauenfeld-kantihalle/
LOCATION:Kanti Turnhalle\, Frauenfeld
CATEGORIES:Männer,Volleyball Frauen,Volleyball Männer
ATTACH;FMTTYPE=image/png:https://www.stvf.ch/wp-content/uploads/2023/01/Bildschirmfoto-2023-01-08-um-16.21.33.png
END:VEVENT
BEGIN:VEVENT
DTSTART;TZID=Europe/Zurich:20230310T183000
DTEND;TZID=Europe/Zurich:20230310T220000
DTSTAMP:20260425T181358
CREATED:20230106T101535Z
LAST-MODIFIED:20230106T101815Z
UID:6814-1678473000-1678485600@www.stvf.ch
SUMMARY:Vereinsversammlung (VV) des STVF
DESCRIPTION:Die Vereinsversammlung (VV) findet in diesem  Jahr am Freitag\, 10. März 2023\, 19.30 Uhr (Nachtessen 18.30 Uhr) im Stadtgarten-Saal\, Stadtgartenweg 1 in Frauenfeld statt. \nDie stimmberechtigten Mitglieder erhalten die Einladung inkl. Traktandenliste 30 Tage vor der VV per E-Mail. \nMit turnerischen Grüssen\nMarkus Marti\, Präsident STVF
URL:https://www.stvf.ch/veranstaltungen/vereinsversammlung-vv-des-stvf/
LOCATION:Stadtgarten-Saal\, Stadtgartenweg 1\, Frauenfeld\, 8500\, Schweiz
END:VEVENT
BEGIN:VEVENT
DTSTART;TZID=Europe/Zurich:20230309T140000
DTEND;TZID=Europe/Zurich:20230309T173000
DTSTAMP:20260425T181358
CREATED:20230220T160613Z
LAST-MODIFIED:20230317T215823Z
UID:6972-1678370400-1678383000@www.stvf.ch
SUMMARY:Frühlings-Jass-Turnier 2023
DESCRIPTION:Gern laden wir zum Frühlingsjass-Turnier (Veteranenjass) ein und freuen uns auf ein spannendes Jass-Turnier.\nOrt:                      Schützenstube Galgenholz\nFrauenfeld\nBeginn:              Punkt 14.00 Uhr\, bis ca. 17.30 Uhr \nEinschreiben:  ab 13.30 Uhr
URL:https://www.stvf.ch/veranstaltungen/09-03-2003-fruehlings-jass-turnier-2023/
LOCATION:Schützenstube Galgenholz
END:VEVENT
BEGIN:VEVENT
DTSTART;TZID=Europe/Zurich:20230210T190000
DTEND;TZID=Europe/Zurich:20230210T220000
DTSTAMP:20260425T181358
CREATED:20220505T113355Z
LAST-MODIFIED:20220505T113355Z
UID:5835-1676055600-1676066400@www.stvf.ch
SUMMARY:Jahresversammlung MF35+
DESCRIPTION:Die Jahresversammlung MF35+ findet im Februar 2023 hoffentlich wieder in physischer Präsenz statt. Mit Nachtessen\, Gesprächen und Gelächter. \nDie Einladung des Vorstandes wird zu gegebener Zeit folgen.
URL:https://www.stvf.ch/veranstaltungen/jahresversammlung-mf35/
CATEGORIES:Männer-Fitness 35+
END:VEVENT
BEGIN:VEVENT
DTSTART;VALUE=DATE:20221208
DTEND;VALUE=DATE:20221209
DTSTAMP:20260425T181358
CREATED:20220209T130715Z
LAST-MODIFIED:20230317T215927Z
UID:5188-1670457600-1670543999@www.stvf.ch
SUMMARY:Samichlausanlass der Mädchenriege
DESCRIPTION:
URL:https://www.stvf.ch/veranstaltungen/samichlausanlass-maedchenriege/
LOCATION:Turnhalle Langdorf\, Oberkirchstrasse 10\, Frauenfeld\, 8500\, Schweiz
CATEGORIES:Mädchen
END:VEVENT
END:VCALENDAR