BEGIN:VCALENDAR
VERSION:2.0
PRODID:-//Stadtturnverein Frauenfeld - STVF - ECPv6.15.20//NONSGML v1.0//EN
CALSCALE:GREGORIAN
METHOD:PUBLISH
X-WR-CALNAME:Stadtturnverein Frauenfeld - STVF
X-ORIGINAL-URL:https://www.stvf.ch
X-WR-CALDESC:Veranstaltungen im Stadtturnverein Frauenfeld - STVF
REFRESH-INTERVAL;VALUE=DURATION:PT1H
X-Robots-Tag:noindex
X-PUBLISHED-TTL:PT1H
BEGIN:VTIMEZONE
TZID:Europe/Zurich
BEGIN:DAYLIGHT
TZOFFSETFROM:+0100
TZOFFSETTO:+0200
TZNAME:CEST
DTSTART:20210328T010000
END:DAYLIGHT
BEGIN:STANDARD
TZOFFSETFROM:+0200
TZOFFSETTO:+0100
TZNAME:CET
DTSTART:20211031T010000
END:STANDARD
BEGIN:DAYLIGHT
TZOFFSETFROM:+0100
TZOFFSETTO:+0200
TZNAME:CEST
DTSTART:20220327T010000
END:DAYLIGHT
BEGIN:STANDARD
TZOFFSETFROM:+0200
TZOFFSETTO:+0100
TZNAME:CET
DTSTART:20221030T010000
END:STANDARD
BEGIN:DAYLIGHT
TZOFFSETFROM:+0100
TZOFFSETTO:+0200
TZNAME:CEST
DTSTART:20230326T010000
END:DAYLIGHT
BEGIN:STANDARD
TZOFFSETFROM:+0200
TZOFFSETTO:+0100
TZNAME:CET
DTSTART:20231029T010000
END:STANDARD
BEGIN:DAYLIGHT
TZOFFSETFROM:+0100
TZOFFSETTO:+0200
TZNAME:CEST
DTSTART:20240331T010000
END:DAYLIGHT
BEGIN:STANDARD
TZOFFSETFROM:+0200
TZOFFSETTO:+0100
TZNAME:CET
DTSTART:20241027T010000
END:STANDARD
END:VTIMEZONE
BEGIN:VEVENT
DTSTART;VALUE=DATE:20230507
DTEND;VALUE=DATE:20230508
DTSTAMP:20260425T162701
CREATED:20230413T144415Z
LAST-MODIFIED:20230413T144415Z
UID:7283-1683417600-1683503999@www.stvf.ch
SUMMARY:Maibummel Frauenriege
DESCRIPTION:
URL:https://www.stvf.ch/veranstaltungen/maibummel-frauenriege/
CATEGORIES:Frauen 35+,Frauenriege
END:VEVENT
BEGIN:VEVENT
DTSTART;VALUE=DATE:20230504
DTEND;VALUE=DATE:20230505
DTSTAMP:20260425T162701
CREATED:20230220T161107Z
LAST-MODIFIED:20230317T215748Z
UID:6974-1683158400-1683244799@www.stvf.ch
SUMMARY:Erste Tageswanderung
DESCRIPTION:04.05.2023               Erste Tageswanderung\nKein Verschiebungsdatum\nLeitung: Hansruedi Güttinger (Anmeldung erforderlich)
URL:https://www.stvf.ch/veranstaltungen/04-05-2023-erste-tageswanderung/
END:VEVENT
BEGIN:VEVENT
DTSTART;TZID=Europe/Zurich:20230311T120000
DTEND;TZID=Europe/Zurich:20230311T190000
DTSTAMP:20260425T162701
CREATED:20230227T204001Z
LAST-MODIFIED:20230227T221127Z
UID:7109-1678536000-1678561200@www.stvf.ch
SUMMARY:Volleballturnier STV Frauenfeld Kantihalle
DESCRIPTION:Die Volleyball-Riegen des STVF organisieren wiederum das offene Frühlings-Volleyballturnier in der Kantihalle am Samstag\, 11. März 2023\, ab 12:00 Uhr. Zuschauer sind herzlich willkommen.
URL:https://www.stvf.ch/veranstaltungen/volleballturnier-stv-frauenfeld-kantihalle/
LOCATION:Kanti Turnhalle\, Frauenfeld
CATEGORIES:Männer,Volleyball Frauen,Volleyball Männer
ATTACH;FMTTYPE=image/png:https://www.stvf.ch/wp-content/uploads/2023/01/Bildschirmfoto-2023-01-08-um-16.21.33.png
END:VEVENT
BEGIN:VEVENT
DTSTART;TZID=Europe/Zurich:20230310T183000
DTEND;TZID=Europe/Zurich:20230310T220000
DTSTAMP:20260425T162701
CREATED:20230106T101535Z
LAST-MODIFIED:20230106T101815Z
UID:6814-1678473000-1678485600@www.stvf.ch
SUMMARY:Vereinsversammlung (VV) des STVF
DESCRIPTION:Die Vereinsversammlung (VV) findet in diesem  Jahr am Freitag\, 10. März 2023\, 19.30 Uhr (Nachtessen 18.30 Uhr) im Stadtgarten-Saal\, Stadtgartenweg 1 in Frauenfeld statt. \nDie stimmberechtigten Mitglieder erhalten die Einladung inkl. Traktandenliste 30 Tage vor der VV per E-Mail. \nMit turnerischen Grüssen\nMarkus Marti\, Präsident STVF
URL:https://www.stvf.ch/veranstaltungen/vereinsversammlung-vv-des-stvf/
LOCATION:Stadtgarten-Saal\, Stadtgartenweg 1\, Frauenfeld\, 8500\, Schweiz
END:VEVENT
BEGIN:VEVENT
DTSTART;TZID=Europe/Zurich:20230309T140000
DTEND;TZID=Europe/Zurich:20230309T173000
DTSTAMP:20260425T162701
CREATED:20230220T160613Z
LAST-MODIFIED:20230317T215823Z
UID:6972-1678370400-1678383000@www.stvf.ch
SUMMARY:Frühlings-Jass-Turnier 2023
DESCRIPTION:Gern laden wir zum Frühlingsjass-Turnier (Veteranenjass) ein und freuen uns auf ein spannendes Jass-Turnier.\nOrt:                      Schützenstube Galgenholz\nFrauenfeld\nBeginn:              Punkt 14.00 Uhr\, bis ca. 17.30 Uhr \nEinschreiben:  ab 13.30 Uhr
URL:https://www.stvf.ch/veranstaltungen/09-03-2003-fruehlings-jass-turnier-2023/
LOCATION:Schützenstube Galgenholz
END:VEVENT
BEGIN:VEVENT
DTSTART;TZID=Europe/Zurich:20230210T190000
DTEND;TZID=Europe/Zurich:20230210T220000
DTSTAMP:20260425T162701
CREATED:20220505T113355Z
LAST-MODIFIED:20220505T113355Z
UID:5835-1676055600-1676066400@www.stvf.ch
SUMMARY:Jahresversammlung MF35+
DESCRIPTION:Die Jahresversammlung MF35+ findet im Februar 2023 hoffentlich wieder in physischer Präsenz statt. Mit Nachtessen\, Gesprächen und Gelächter. \nDie Einladung des Vorstandes wird zu gegebener Zeit folgen.
URL:https://www.stvf.ch/veranstaltungen/jahresversammlung-mf35/
CATEGORIES:Männer-Fitness 35+
END:VEVENT
BEGIN:VEVENT
DTSTART;VALUE=DATE:20221208
DTEND;VALUE=DATE:20221209
DTSTAMP:20260425T162701
CREATED:20220209T130715Z
LAST-MODIFIED:20230317T215927Z
UID:5188-1670457600-1670543999@www.stvf.ch
SUMMARY:Samichlausanlass der Mädchenriege
DESCRIPTION:
URL:https://www.stvf.ch/veranstaltungen/samichlausanlass-maedchenriege/
LOCATION:Turnhalle Langdorf\, Oberkirchstrasse 10\, Frauenfeld\, 8500\, Schweiz
CATEGORIES:Mädchen
END:VEVENT
BEGIN:VEVENT
DTSTART;VALUE=DATE:20221130
DTEND;VALUE=DATE:20221201
DTSTAMP:20260425T162701
CREATED:20220209T130607Z
LAST-MODIFIED:20230317T215952Z
UID:5186-1669766400-1669852799@www.stvf.ch
SUMMARY:Chlaus-/ Schlussabend Jugi
DESCRIPTION:
URL:https://www.stvf.ch/veranstaltungen/chlaus-schlussabend-jugi/
LOCATION:Turnhalle Langdorf\, Oberkirchstrasse 10\, Frauenfeld\, 8500\, Schweiz
CATEGORIES:Knaben
END:VEVENT
BEGIN:VEVENT
DTSTART;VALUE=DATE:20221012
DTEND;VALUE=DATE:20221013
DTSTAMP:20260425T162701
CREATED:20220209T130453Z
LAST-MODIFIED:20220209T130453Z
UID:5184-1665532800-1665619199@www.stvf.ch
SUMMARY:Ferienpass (Jugi)
DESCRIPTION:
URL:https://www.stvf.ch/veranstaltungen/ferienpass-jugi/
LOCATION:Turnhalle Langdorf\, Oberkirchstrasse 10\, Frauenfeld\, 8500\, Schweiz
CATEGORIES:Knaben
END:VEVENT
BEGIN:VEVENT
DTSTART;VALUE=DATE:20220924
DTEND;VALUE=DATE:20220926
DTSTAMP:20260425T162701
CREATED:20220505T112018Z
LAST-MODIFIED:20220523T155310Z
UID:5830-1663977600-1664150399@www.stvf.ch
SUMMARY:Turnfahrt MF35+
DESCRIPTION:Die Riege Langdorf wird die diesjährige 2-tägige Turnfahrt organisieren. \nDas Programm wird folgen.
URL:https://www.stvf.ch/veranstaltungen/turnfahrt-mf35/
CATEGORIES:Männer-Fitness 35+
END:VEVENT
BEGIN:VEVENT
DTSTART;VALUE=DATE:20220921
DTEND;VALUE=DATE:20221007
DTSTAMP:20260425T162701
CREATED:20220209T130736Z
LAST-MODIFIED:20220209T130736Z
UID:5181-1663718400-1665100799@www.stvf.ch
SUMMARY:Rangturnen
DESCRIPTION:Das Rangturnen findet in den regulären Turnstunden während 3 Wochen statt. Die Turnerinnen und Turner absolvieren 7 respektive 8 Disziplinen und anschliessend wird eine Rangliste aller Turnerinnen und Turner der teilnehmenden Turnvereine nach Rangpunkten erstellt. Die Jugi hat schon mehrmals an diesem Anlass teilgenommen\, für die Mädchenriege ist es der erste solche Anlass.
URL:https://www.stvf.ch/veranstaltungen/rangturnen/
LOCATION:Turnhalle Langdorf\, Oberkirchstrasse 10\, Frauenfeld\, 8500\, Schweiz
CATEGORIES:Jugend
END:VEVENT
BEGIN:VEVENT
DTSTART;VALUE=DATE:20220827
DTEND;VALUE=DATE:20220828
DTSTAMP:20260425T162701
CREATED:20220209T125341Z
LAST-MODIFIED:20220209T125341Z
UID:5179-1661558400-1661644799@www.stvf.ch
SUMMARY:Stadtlauf Frauenfeld
DESCRIPTION:
URL:https://www.stvf.ch/veranstaltungen/stadtlauf-frauenfeld/
CATEGORIES:Jugend
END:VEVENT
BEGIN:VEVENT
DTSTART;VALUE=DATE:20220821
DTEND;VALUE=DATE:20220822
DTSTAMP:20260425T162701
CREATED:20211221T172405Z
LAST-MODIFIED:20230317T215908Z
UID:4879-1661040000-1661126399@www.stvf.ch
SUMMARY:Jugireise
DESCRIPTION:
URL:https://www.stvf.ch/veranstaltungen/jugireise/
CATEGORIES:Knaben
END:VEVENT
BEGIN:VEVENT
DTSTART;TZID=Europe/Zurich:20220727T170000
DTEND;TZID=Europe/Zurich:20220727T210000
DTSTAMP:20260425T162701
CREATED:20220704T105845Z
LAST-MODIFIED:20220707T105055Z
UID:6086-1658941200-1658955600@www.stvf.ch
SUMMARY:Grillabend der Faustballriege
DESCRIPTION:Der Grillabend der Faustballriege findet neu am Mittwoch\, 27. Juli 2022\, ab 17:00\, statt. \nBitte reserviert euch dieses Datum. Weitere Informationen folgen auf dem E-Mail-Weg. \nEuer Chrigel Roth \n 
URL:https://www.stvf.ch/veranstaltungen/grillabend-der-faustballriege/
CATEGORIES:Männer-Fitness III
ATTACH;FMTTYPE=image/jpeg:https://www.stvf.ch/wp-content/uploads/2022/07/Grllieren.jpg
END:VEVENT
BEGIN:VEVENT
DTSTART;TZID=Europe/Zurich:20220708T190000
DTEND;TZID=Europe/Zurich:20220708T220000
DTSTAMP:20260425T162701
CREATED:20220505T111357Z
LAST-MODIFIED:20220505T111357Z
UID:5828-1657306800-1657317600@www.stvf.ch
SUMMARY:Velotour MF35+
DESCRIPTION:Die Riege Reutenen organisiert die diesjährige Velotour mit noch unbekanntem Zwischenziel. \nDetaillierte Angaben werden folgen.
URL:https://www.stvf.ch/veranstaltungen/velotour-mf35/
CATEGORIES:Männer-Fitness 35+
ATTACH;FMTTYPE=image/jpeg:https://www.stvf.ch/wp-content/uploads/2021/11/DSC02284_b-4.jpg
END:VEVENT
BEGIN:VEVENT
DTSTART;VALUE=DATE:20220706
DTEND;VALUE=DATE:20220707
DTSTAMP:20260425T162701
CREATED:20211221T172258Z
LAST-MODIFIED:20211221T172258Z
UID:4877-1657065600-1657151999@www.stvf.ch
SUMMARY:Cervelatbrötle (Jugi und Mädchenriege)
DESCRIPTION:
URL:https://www.stvf.ch/veranstaltungen/cervelatbroetle-jugi-und-maedchenriege/
CATEGORIES:Knaben,Mädchen
END:VEVENT
BEGIN:VEVENT
DTSTART;VALUE=DATE:20220617
DTEND;VALUE=DATE:20220620
DTSTAMP:20260425T162701
CREATED:20220209T125026Z
LAST-MODIFIED:20220608T082602Z
UID:5176-1655424000-1655683199@www.stvf.ch
SUMMARY:Mitsommerfest Frauenfeld
DESCRIPTION:Ein Besuch beim STVF am Mitsommerfest 2022 vom Freitag\, 17.06.2022 bis Sonntag\, 19.06.2022 lohnt sich.\nUnser Stand bietet dir\, deinen Kindern\, deinem Mann\, deiner Frau\, deinen Freunden\, deiner Urgrossmutter\, deiner Schwiegermutter\, deinem Schwiegervater\, einfach allen\, das beste Essen\, die beste Stimmung und natürlich die genüsslichsten Getränke.\nAuf einen Schlag heisst das\, einen 7-Meter langen Jumbo-Grill mit Pulled Beef\, bestgelauntes und motiviertes Personal\, Wasser\, Wein und genau: Bier.
URL:https://www.stvf.ch/veranstaltungen/mitsommerfest-frauenfeld/
LOCATION:Promenadenstrasse Frauenfeld\, Promenadenstrasse\, Frauenfeld\, 8500\, Schweiz
CATEGORIES:Gesamtverein
END:VEVENT
BEGIN:VEVENT
DTSTART;VALUE=DATE:20220612
DTEND;VALUE=DATE:20220613
DTSTAMP:20260425T162701
CREATED:20220221T141002Z
LAST-MODIFIED:20220221T141002Z
UID:5415-1654992000-1655078399@www.stvf.ch
SUMMARY:Jugendturntag (Mädchenriege)
DESCRIPTION:
URL:https://www.stvf.ch/veranstaltungen/jugendturntag-maedchenriege/
LOCATION:Weinfelden\, Weinfelden\, Thurgau\, 8570\, Switzerland
CATEGORIES:Mädchen
END:VEVENT
BEGIN:VEVENT
DTSTART;TZID=Europe/Zurich:20220528T080000
DTEND;TZID=Europe/Zurich:20220528T170000
DTSTAMP:20260425T162701
CREATED:20211130T200523Z
LAST-MODIFIED:20211130T200523Z
UID:4461-1653724800-1653757200@www.stvf.ch
SUMMARY:Thurgauer Meisterschaft Vereinsturnen
DESCRIPTION:Das Team Aerobic startet an der Thurgauer Meisterschaft.
URL:https://www.stvf.ch/veranstaltungen/thurgauer-meisterschaft-vereinsturnen/
LOCATION:Erlen\, Erlen\, Thurgau\, 8586
END:VEVENT
BEGIN:VEVENT
DTSTART;VALUE=DATE:20220526
DTEND;VALUE=DATE:20220527
DTSTAMP:20260425T162701
CREATED:20220504T161956Z
LAST-MODIFIED:20220504T162700Z
UID:5823-1653523200-1653609599@www.stvf.ch
SUMMARY:Auffahrtsbummel\, Do. 26. Mai 22
DESCRIPTION:Christian Roth organisiert zusammen mit seiner Frau Gerda dieses Jahr den Auffahrtsbummel.\nHerzlichen Dank an die beiden Organisatoren! \nAlle Männer-Fitnessler sind mit oder ohne «Anhang» herzlich willkommen. Die Wanderung wird bei jedem Wetter durchgeführt. \nTreffpunkt: Donnerstag\, 26. Mai 2022\, um 09:00 Uhr\, Marktplatz bei der Bushaltestelle. \nDie Wanderzeit bis zum Kaffeehalt dauert ca. 1¼ Stunden. Dann nochmals 1¼ Stunden bis zum Mittagshalt mit Mittagessen\, das ungefähr um 12:30 Uhr stattfindet. \nZu Beginn der Wanderung gibt es zwei Steigungen (eventuell Wanderstöcke mitnehmen). Nachher ist alles mehr oder weniger flach. \nNach dem Mittagessen ist es möglich\, mit dem Bus heimzukehren. Natürlich kann auch nach Hause gewandert werden (ca. 1 Stunde). \nFür Kaffeehalt und Mittagessen wird ein Unkostenbeitrag von 15.- pro Person erhoben\, der beim Mittagessen eingezogen wird. \nWir freuen uns über eine rege Teilnahme. \nAnmeldung bis Montag\, 20. Mai 2022 an:\nper Mail: chrigelro@bluewin.ch\noder\nChristian Roth\, Talstrasse 9\, 8500 Frauenfeld\, Tel 052 720 14 33 / 079 726 69 59
URL:https://www.stvf.ch/veranstaltungen/auffahrtsbummel-do-26-mai-22/
LOCATION:Überraschung\, Überraschung
CATEGORIES:Männer-Fitness 35+
ATTACH;FMTTYPE=image/jpeg:https://www.stvf.ch/wp-content/uploads/2022/04/22_04_28_02.jpg
END:VEVENT
BEGIN:VEVENT
DTSTART;TZID=Europe/Zurich:20220521T080000
DTEND;TZID=Europe/Zurich:20220521T170000
DTSTAMP:20260425T162701
CREATED:20211130T200157Z
LAST-MODIFIED:20211130T200157Z
UID:4455-1653120000-1653152400@www.stvf.ch
SUMMARY:Leubergcup
DESCRIPTION:Wettkampf am Leubergcup in Zuzwil.\nDas TeamAerobic startet im Aktiven Team\, als 3er-Team und im Paar.
URL:https://www.stvf.ch/veranstaltungen/leubergcup/
LOCATION:Zuzwil\, Unterdorfstrasse 36B\, Zuzwil\, SG\, 9524\, Schweiz
END:VEVENT
BEGIN:VEVENT
DTSTART;VALUE=DATE:20220502
DTEND;VALUE=DATE:20220514
DTSTAMP:20260425T162701
CREATED:20211122T183147Z
LAST-MODIFIED:20211215T134536Z
UID:4269-1651449600-1652486399@www.stvf.ch
SUMMARY:Schnupperwoche STVF Jugi
DESCRIPTION:Jungen im Alter von 7 bis 15 Jahren sind vom 2. – 12. Mai herzlich dazu eingeladen\, in der Turnhalle des Schulhaus Langdorf eine bis zwei Schnupperturnstunden bei uns in der Jugi zu besuchen. Die genauen Daten und Zeiten lauten wie folgt: \n7 bis 11 Jahre: Mittwoch (4.5./11.5.) von 18:00 bis 19:15 Uhr \n12 bis 15 Jahre: Mittwoch (4.5./11.5.) von 19:15 bis 20:30 Uhr \n 
URL:https://www.stvf.ch/veranstaltungen/schnupperwoche-stvf/
LOCATION:Turnhalle Langdorf\, Oberkirchstrasse 10\, Frauenfeld\, 8500\, Schweiz
CATEGORIES:Jugend,Knaben
END:VEVENT
BEGIN:VEVENT
DTSTART;VALUE=DATE:20220502
DTEND;VALUE=DATE:20220513
DTSTAMP:20260425T162702
CREATED:20211122T183959Z
LAST-MODIFIED:20211215T080858Z
UID:4278-1651449600-1652399999@www.stvf.ch
SUMMARY:Schnupperwoche STVF Kinderturnen
DESCRIPTION:Kindergartenkinder sind herzlich dazu eingeladen\, in der Turnhalle Langdorf oder Schollenholz eine bis zwei Schnupperturnstunden zu besuchen. Wir freuen uns auf euch! \nSchulhaus Langdorf: Dienstag (3.5./10.5.) von 16:30 – 17:30 Uhr \nSchulhaus Schollenholz: Donnerstag (5.5./12.5.) von 16:15 – 17:15 Uhr \n 
URL:https://www.stvf.ch/veranstaltungen/schnupperwoche-stvf-kinderturnen-2/
CATEGORIES:Jugend,Kinderturnen
END:VEVENT
BEGIN:VEVENT
DTSTART;VALUE=DATE:20220502
DTEND;VALUE=DATE:20220513
DTSTAMP:20260425T162702
CREATED:20211122T183546Z
LAST-MODIFIED:20211215T080023Z
UID:4273-1651449600-1652399999@www.stvf.ch
SUMMARY:Schnupperwoche STVF Mädchenriege
DESCRIPTION:Mädchen von der 1. Klasse bis und mit 2. Sek sind vom 2. – 12. Mai herzlich dazu eingeladen\, in den Turnhallen des Schulhauses Langdorf eine bis zwei Schnupperturnstunden zu besuchen. Die genauen Daten und Zeiten lauten wie folgt: \n1./2. Klasse: Montag (2.5. /9.5.) von 16:15 bis 17:30 Uhr \n2./3. Klasse: Donnerstag (5.5./12.5.) von 16:45 bis 18:00 Uhr \n4./5. Klasse: Donnerstag (5.5./12.5.) von 17:30 bis 19:00 Uhr \n5./6. Klasse und 1./2. Sek: Donnerstag (5.5./12.5.) von 18:00 bis 19:30 Uhr \n  \n 
URL:https://www.stvf.ch/veranstaltungen/schnupperwoche-stvf-maedchenriege/
LOCATION:Turnhalle Langdorf\, Oberkirchstrasse 10\, Frauenfeld\, 8500\, Schweiz
CATEGORIES:Jugend,Mädchen
END:VEVENT
BEGIN:VEVENT
DTSTART;TZID=Europe/Zurich:20220407T131500
DTEND;TZID=Europe/Zurich:20220407T170000
DTSTAMP:20260425T162702
CREATED:20220402T091716Z
LAST-MODIFIED:20220402T092807Z
UID:5588-1649337300-1649350800@www.stvf.ch
SUMMARY:Donnerstags Wanderung 07.04.2022
DESCRIPTION:Wanderung Do. 7. April 2022\nMit Peter Strupler / Heinz Fauser\nMit dem Postauto ab HB Frauenfeld 13.16 h nach Nussbaumen\n(Kurs B 823 Diessenhofen)\nZiel: Terrasse? Restaurant Eintracht Hüttwilen
URL:https://www.stvf.ch/veranstaltungen/donnerstags-wanderung-07-04-2022/
LOCATION:Restaurant Eintracht\, Dorfstrasse 2\,\, Hüttwilen\, 8536
CATEGORIES:Turnveteranen
ATTACH;FMTTYPE=image/jpeg:https://www.stvf.ch/wp-content/uploads/2022/04/Huettwilen.jpg
END:VEVENT
BEGIN:VEVENT
DTSTART;TZID=Europe/Zurich:20220331T133000
DTEND;TZID=Europe/Zurich:20220331T170000
DTSTAMP:20260425T162702
CREATED:20220325T181725Z
LAST-MODIFIED:20220325T181725Z
UID:5557-1648733400-1648746000@www.stvf.ch
SUMMARY:Donnerstags Wanderung 31.03.2022
DESCRIPTION:Do. Wanderung  31. März 2022 Ruedi Stettler und  Erich Schmidlin \nStart: Wiler-Bahnhof 13.30 Uhr \nZiel: Rest. Wiesental Niederwil \nRückfahrt:       Ab Niederwil 00.30 h \nAb Sandbühl  Immer 00.17 / 00.32 / 00.47 / 00.02
URL:https://www.stvf.ch/veranstaltungen/donnerstags-wanderung-31-03-2022/
LOCATION:Rest. Wiesental Niederwil\, Niederwil 17\, Frauenfeld\, 8500
CATEGORIES:Turnveteranen
ATTACH;FMTTYPE=image/jpeg:https://www.stvf.ch/wp-content/uploads/2022/03/Wiler_Bahn.jpg
END:VEVENT
BEGIN:VEVENT
DTSTART;VALUE=DATE:20220330
DTEND;VALUE=DATE:20220331
DTSTAMP:20260425T162702
CREATED:20211221T172105Z
LAST-MODIFIED:20211221T172105Z
UID:4875-1648598400-1648684799@www.stvf.ch
SUMMARY:Elternstunde (Jugi)
DESCRIPTION:
URL:https://www.stvf.ch/veranstaltungen/elternstunde-jugi/
LOCATION:Turnhalle Langdorf\, Oberkirchstrasse 10\, Frauenfeld\, 8500\, Schweiz
CATEGORIES:Knaben
END:VEVENT
BEGIN:VEVENT
DTSTART;TZID=Europe/Zurich:20220326T120000
DTEND;TZID=Europe/Zurich:20220326T190000
DTSTAMP:20260425T162702
CREATED:20220125T160948Z
LAST-MODIFIED:20220125T174229Z
UID:5077-1648296000-1648321200@www.stvf.ch
SUMMARY:Volleyball Turnier
DESCRIPTION:Auch dieses Jahr findet wieder das bekannte Turnier statt. \nDie Organisatoren freuen sich auf zahlreiche Anmeldungen. \nFlyer Turnier 2022 mit Link \n 
URL:https://www.stvf.ch/veranstaltungen/volleyball-turnier/
LOCATION:Kanti Turnhalle\, Frauenfeld
CATEGORIES:Volleyball Männer
ATTACH;FMTTYPE=image/jpeg:https://www.stvf.ch/wp-content/uploads/2022/01/volleyball.jpg
END:VEVENT
BEGIN:VEVENT
DTSTART;TZID=Europe/Zurich:20220324T134000
DTEND;TZID=Europe/Zurich:20220324T170000
DTSTAMP:20260425T162702
CREATED:20220319T095811Z
LAST-MODIFIED:20220319T100745Z
UID:5531-1648129200-1648141200@www.stvf.ch
SUMMARY:Donnerstags Wanderung 24.03.2022
DESCRIPTION:Do. Wa. 24. März 2022 Albert Koller und Moritz Blum\nWanderung: ab Wolfikon via Wetzikon-Lustdorf nach Thundorf.\nZiel : Restaurant Koch-Lust am Bach 8 Thundorf\nRückfahrt: Bushaltestelle Brückenwaage Thundorf\nStart: Bahnhof SBB Frauenfeld\nPostauto B 838 nach Weinfelden\nAbfahrt 13.22 ab Kante M Frauenfeld\nAnkunft in Wolfikon um 13:40 Uhr.\nHinfahrt n. Wolfikon: Zonen 921/918/923 Fr.3.60 Einzelbillett.\nMarschzeit: ca 1.5 Std – 2. Std.\nRückreise: Bushaltestelle Thundorf Brückenwaage\nAbfahrt Postauto B 838/837 15.52 Uhr oder 16.22 Uhr\nund 16.52 Uhr.\nRückfahrt: Zonen 918/921 Fr.2.90 Einzelbillett.\nMoritz und
URL:https://www.stvf.ch/veranstaltungen/donnerstags-wanderung-24-03-2022/
LOCATION:Kochlust Thundorf\, Am Bach 8\, Thundorf
CATEGORIES:Turnveteranen
ATTACH;FMTTYPE=image/jpeg:https://www.stvf.ch/wp-content/uploads/2022/03/Thundorf.jpg
END:VEVENT
BEGIN:VEVENT
DTSTART;VALUE=DATE:20220311
DTEND;VALUE=DATE:20220312
DTSTAMP:20260425T162702
CREATED:20211222T205817Z
LAST-MODIFIED:20220221T081418Z
UID:4889-1646956800-1647043199@www.stvf.ch
SUMMARY:Vereinsversammlung (VV)
DESCRIPTION:Da zum Zeitpunkt des Einladungsversandes (30 Tage vor der Versammlung) eine Vorort-Versammlung nur mit Zertifikats- bzw. Maskenpflicht hätte durchgeführt werden können und eine Verschiebung keine genügend grosse Planungssicherheit bzgl. Zertifikats- und Maskenpflicht gegeben hätte\, hat der Vorstand beschlossen\, eine schriftliche Abstimmung bzw. Wahl durchzuführen. \nWir hoffen sehr\, dass wir uns in diesem Jahr aber wieder öfter vor Ort an unseren gemeinsamen Anlässen treffen können und freuen uns jetzt schon auf viele gemeinsame Begegnungen. \nFür den Vorstand\nMarkus Marti\, Präsident
URL:https://www.stvf.ch/veranstaltungen/vereinsversammlung-vv/
CATEGORIES:Gesamtverein
END:VEVENT
END:VCALENDAR