BEGIN:VCALENDAR
VERSION:2.0
PRODID:-//Stadtturnverein Frauenfeld - STVF - ECPv6.15.20//NONSGML v1.0//EN
CALSCALE:GREGORIAN
METHOD:PUBLISH
X-WR-CALNAME:Stadtturnverein Frauenfeld - STVF
X-ORIGINAL-URL:https://www.stvf.ch
X-WR-CALDESC:Veranstaltungen im Stadtturnverein Frauenfeld - STVF
REFRESH-INTERVAL;VALUE=DURATION:PT1H
X-Robots-Tag:noindex
X-PUBLISHED-TTL:PT1H
BEGIN:VTIMEZONE
TZID:Europe/Zurich
BEGIN:DAYLIGHT
TZOFFSETFROM:+0100
TZOFFSETTO:+0200
TZNAME:CEST
DTSTART:20250330T010000
END:DAYLIGHT
BEGIN:STANDARD
TZOFFSETFROM:+0200
TZOFFSETTO:+0100
TZNAME:CET
DTSTART:20251026T010000
END:STANDARD
BEGIN:DAYLIGHT
TZOFFSETFROM:+0100
TZOFFSETTO:+0200
TZNAME:CEST
DTSTART:20260329T010000
END:DAYLIGHT
BEGIN:STANDARD
TZOFFSETFROM:+0200
TZOFFSETTO:+0100
TZNAME:CET
DTSTART:20261025T010000
END:STANDARD
BEGIN:DAYLIGHT
TZOFFSETFROM:+0100
TZOFFSETTO:+0200
TZNAME:CEST
DTSTART:20270328T010000
END:DAYLIGHT
BEGIN:STANDARD
TZOFFSETFROM:+0200
TZOFFSETTO:+0100
TZNAME:CET
DTSTART:20271031T010000
END:STANDARD
END:VTIMEZONE
BEGIN:VEVENT
DTSTART;TZID=Europe/Zurich:20260306T180000
DTEND;TZID=Europe/Zurich:20260306T180000
DTSTAMP:20260424T145333
CREATED:20250921T171617Z
LAST-MODIFIED:20260131T180627Z
UID:10104-1772820000-1772820000@www.stvf.ch
SUMMARY:Vereinsversammlung stvf
DESCRIPTION:Türöffnung/Appell 18 Uhr\nNachtessen 18.30 Uhr\nVersammlung 19.45 Uhr \nAn/Abmelden bis 20.02.2026
URL:https://www.stvf.ch/veranstaltungen/vereinsversammlung-stvf/
LOCATION:Stadtgarten-Saal\, Stadtgartenweg 1\, Frauenfeld\, 8500\, Schweiz
CATEGORIES:Gesamtverein
END:VEVENT
BEGIN:VEVENT
DTSTART;TZID=Europe/Zurich:20260307T120000
DTEND;TZID=Europe/Zurich:20260307T190000
DTSTAMP:20260424T145333
CREATED:20250224T105704Z
LAST-MODIFIED:20260224T165558Z
UID:10466-1772884800-1772910000@www.stvf.ch
SUMMARY:Chili-Volleyballturnier Samstag\,7.März 2026\,12:00-19:00 Uhr
DESCRIPTION:Volley Flyer 2026
URL:https://www.stvf.ch/veranstaltungen/chili-volleyballturnier-samstag7-maerz-20261200-1900-uhr/
END:VEVENT
BEGIN:VEVENT
DTSTART;TZID=Europe/Zurich:20260319T140000
DTEND;TZID=Europe/Zurich:20260319T180000
DTSTAMP:20260424T145333
CREATED:20260221T155135Z
LAST-MODIFIED:20260221T155135Z
UID:10670-1773928800-1773943200@www.stvf.ch
SUMMARY:Frühlings-Jass-Turnier 2026 der Turnveteranen
DESCRIPTION:Gern laden wir zum Frühlings-Jass-Turnier ein und freuen uns auf ein spannendes Jass-Turnier. \nNeuer Ort:  Stadtgarten\, Saal Laura\, Stadtgartenweg 1\, Frauenfeld\nBeginn:                  Punkt 14.00 Uhr\, bis ca. 17.30 Uhr\nEinschreiben:     ab 13.45 Uhr
URL:https://www.stvf.ch/veranstaltungen/fruehlings-jass-turnier-2026-der-turnveteranen/
LOCATION:Stadtgarten\, Saal Laura\, Stadtgartenweg 1\, 8500 Frauenfeld\, 8500\, Switzerland
END:VEVENT
END:VCALENDAR