BEGIN:VCALENDAR
VERSION:2.0
PRODID:-//Stadtturnverein Frauenfeld - STVF - ECPv6.15.20//NONSGML v1.0//EN
CALSCALE:GREGORIAN
METHOD:PUBLISH
X-WR-CALNAME:Stadtturnverein Frauenfeld - STVF
X-ORIGINAL-URL:https://www.stvf.ch
X-WR-CALDESC:Veranstaltungen im Stadtturnverein Frauenfeld - STVF
REFRESH-INTERVAL;VALUE=DURATION:PT1H
X-Robots-Tag:noindex
X-PUBLISHED-TTL:PT1H
BEGIN:VTIMEZONE
TZID:Europe/Zurich
BEGIN:DAYLIGHT
TZOFFSETFROM:+0100
TZOFFSETTO:+0200
TZNAME:CEST
DTSTART:20250330T010000
END:DAYLIGHT
BEGIN:STANDARD
TZOFFSETFROM:+0200
TZOFFSETTO:+0100
TZNAME:CET
DTSTART:20251026T010000
END:STANDARD
BEGIN:DAYLIGHT
TZOFFSETFROM:+0100
TZOFFSETTO:+0200
TZNAME:CEST
DTSTART:20260329T010000
END:DAYLIGHT
BEGIN:STANDARD
TZOFFSETFROM:+0200
TZOFFSETTO:+0100
TZNAME:CET
DTSTART:20261025T010000
END:STANDARD
BEGIN:DAYLIGHT
TZOFFSETFROM:+0100
TZOFFSETTO:+0200
TZNAME:CEST
DTSTART:20270328T010000
END:DAYLIGHT
BEGIN:STANDARD
TZOFFSETFROM:+0200
TZOFFSETTO:+0100
TZNAME:CET
DTSTART:20271031T010000
END:STANDARD
END:VTIMEZONE
BEGIN:VEVENT
DTSTART;TZID=Europe/Zurich:20260604T110000
DTEND;TZID=Europe/Zurich:20260604T160000
DTSTAMP:20260424T162511
CREATED:20260221T160610Z
LAST-MODIFIED:20260221T160610Z
UID:10677-1780570800-1780588800@www.stvf.ch
SUMMARY:Pizza Wanderung nach Kefikon der Turnveteranen
DESCRIPTION:04.06.2026    Erste Pizza Wanderung nach Kefikon \nLeitung: Ruedi Stettler / Hans Engeler (Anmeldung erforderlich)
URL:https://www.stvf.ch/veranstaltungen/pizza-wanderung-nach-kefikon-der-turnveteranen/
END:VEVENT
BEGIN:VEVENT
DTSTART;TZID=Europe/Zurich:20260607T083000
DTEND;TZID=Europe/Zurich:20260607T170000
DTSTAMP:20260424T162511
CREATED:20260221T160754Z
LAST-MODIFIED:20260221T160754Z
UID:10679-1780821000-1780851600@www.stvf.ch
SUMMARY:Jahrestagung TGTVV in Eschlikon
DESCRIPTION:07.06.2026     Jahrestagung TGTVV in Eschlikon\nnicht direkt anmelden (Anmeldung über Köbi Debrunner)
URL:https://www.stvf.ch/veranstaltungen/jahrestagung-tgtvv-in-eschlikon/
END:VEVENT
BEGIN:VEVENT
DTSTART;TZID=Europe/Zurich:20260618T080000
DTEND;TZID=Europe/Zurich:20260618T183000
DTSTAMP:20260424T162511
CREATED:20260221T160957Z
LAST-MODIFIED:20260221T160957Z
UID:10681-1781769600-1781807400@www.stvf.ch
SUMMARY:Tagesausflug mit Partnerinnen der Turnveteranen
DESCRIPTION:18.06.2026      Tagesausflug mit Partnerinnen nach Sattel Hochstuckli \nLeitung: Alois Leutenegger / Stv. Hansruedi Güttinger (Anmeldung erforderlich)
URL:https://www.stvf.ch/veranstaltungen/tagesausflug-mit-partnerinnen-der-turnveteranen/
END:VEVENT
BEGIN:VEVENT
DTSTART;TZID=Europe/Zurich:20260625T100000
DTEND;TZID=Europe/Zurich:20260625T160000
DTSTAMP:20260424T162511
CREATED:20260221T161141Z
LAST-MODIFIED:20260221T161141Z
UID:10683-1782381600-1782403200@www.stvf.ch
SUMMARY:Vormittags-Wanderung der Turnveteranen
DESCRIPTION:25.06.2026    Vormittags-Wanderung ab 10.00 Uhr mit Mittagessen (Röbi\, Roland)\nLeitung:  Vorstand (Anmeldung erforderlich)
URL:https://www.stvf.ch/veranstaltungen/vormittags-wanderung-der-turnveteranen/
END:VEVENT
BEGIN:VEVENT
DTSTART;TZID=Europe/Zurich:20260629T180000
DTEND;TZID=Europe/Zurich:20260629T180000
DTSTAMP:20260424T162511
CREATED:20260119T163508Z
LAST-MODIFIED:20260127T134003Z
UID:10547-1782756000-1782756000@www.stvf.ch
SUMMARY:Grillabend Abteilung Frauen
DESCRIPTION:Heerenberg
URL:https://www.stvf.ch/veranstaltungen/grillabend-abteilung-frauen/
CATEGORIES:Frauen
END:VEVENT
END:VCALENDAR