BEGIN:VCALENDAR
VERSION:2.0
PRODID:-//Stadtturnverein Frauenfeld - STVF - ECPv6.15.20//NONSGML v1.0//EN
CALSCALE:GREGORIAN
METHOD:PUBLISH
X-ORIGINAL-URL:https://www.stvf.ch
X-WR-CALDESC:Veranstaltungen im Stadtturnverein Frauenfeld - STVF
REFRESH-INTERVAL;VALUE=DURATION:PT1H
X-Robots-Tag:noindex
X-PUBLISHED-TTL:PT1H
BEGIN:VTIMEZONE
TZID:Europe/Zurich
BEGIN:DAYLIGHT
TZOFFSETFROM:+0100
TZOFFSETTO:+0200
TZNAME:CEST
DTSTART:20250330T010000
END:DAYLIGHT
BEGIN:STANDARD
TZOFFSETFROM:+0200
TZOFFSETTO:+0100
TZNAME:CET
DTSTART:20251026T010000
END:STANDARD
BEGIN:DAYLIGHT
TZOFFSETFROM:+0100
TZOFFSETTO:+0200
TZNAME:CEST
DTSTART:20260329T010000
END:DAYLIGHT
BEGIN:STANDARD
TZOFFSETFROM:+0200
TZOFFSETTO:+0100
TZNAME:CET
DTSTART:20261025T010000
END:STANDARD
BEGIN:DAYLIGHT
TZOFFSETFROM:+0100
TZOFFSETTO:+0200
TZNAME:CEST
DTSTART:20270328T010000
END:DAYLIGHT
BEGIN:STANDARD
TZOFFSETFROM:+0200
TZOFFSETTO:+0100
TZNAME:CET
DTSTART:20271031T010000
END:STANDARD
END:VTIMEZONE
BEGIN:VEVENT
DTSTART;TZID=Europe/Zurich:20260910T080000
DTEND;TZID=Europe/Zurich:20260910T180000
DTSTAMP:20260424T215600
CREATED:20260221T161503Z
LAST-MODIFIED:20260221T161503Z
UID:10687-1789027200-1789063200@www.stvf.ch
SUMMARY:Zweite Tageswanderung der Turnveteranen
DESCRIPTION:10.09.2026        Zweite Tageswanderung im Klettgau\n                                 Leitung: Hans Engeler (Anmeldung erforderlich)
URL:https://www.stvf.ch/veranstaltungen/zweite-tageswanderung-der-turnveteranen/
END:VEVENT
END:VCALENDAR