BEGIN:VCALENDAR
VERSION:2.0
PRODID:-//Stadtturnverein Frauenfeld - STVF - ECPv6.15.20//NONSGML v1.0//EN
CALSCALE:GREGORIAN
METHOD:PUBLISH
X-WR-CALNAME:Stadtturnverein Frauenfeld - STVF
X-ORIGINAL-URL:https://www.stvf.ch
X-WR-CALDESC:Veranstaltungen im Stadtturnverein Frauenfeld - STVF
REFRESH-INTERVAL;VALUE=DURATION:PT1H
X-Robots-Tag:noindex
X-PUBLISHED-TTL:PT1H
BEGIN:VTIMEZONE
TZID:Europe/Zurich
BEGIN:DAYLIGHT
TZOFFSETFROM:+0100
TZOFFSETTO:+0200
TZNAME:CEST
DTSTART:20250330T010000
END:DAYLIGHT
BEGIN:STANDARD
TZOFFSETFROM:+0200
TZOFFSETTO:+0100
TZNAME:CET
DTSTART:20251026T010000
END:STANDARD
BEGIN:DAYLIGHT
TZOFFSETFROM:+0100
TZOFFSETTO:+0200
TZNAME:CEST
DTSTART:20260329T010000
END:DAYLIGHT
BEGIN:STANDARD
TZOFFSETFROM:+0200
TZOFFSETTO:+0100
TZNAME:CET
DTSTART:20261025T010000
END:STANDARD
BEGIN:DAYLIGHT
TZOFFSETFROM:+0100
TZOFFSETTO:+0200
TZNAME:CEST
DTSTART:20270328T010000
END:DAYLIGHT
BEGIN:STANDARD
TZOFFSETFROM:+0200
TZOFFSETTO:+0100
TZNAME:CET
DTSTART:20271031T010000
END:STANDARD
END:VTIMEZONE
BEGIN:VEVENT
DTSTART;TZID=Europe/Zurich:20261112T133000
DTEND;TZID=Europe/Zurich:20261112T180000
DTSTAMP:20260425T010935
CREATED:20260221T161747Z
LAST-MODIFIED:20260221T161807Z
UID:10689-1794490200-1794506400@www.stvf.ch
SUMMARY:Treberwurst Wanderung der Turnveteranen
DESCRIPTION:12.11.2026         Treberwurst Wanderung zum Rappenhof Buch\nLeitung: Gesamter Vorstand (Anmeldung erforderlich)
URL:https://www.stvf.ch/veranstaltungen/treberwurst-wanderung-der-turnveteranen/
END:VEVENT
BEGIN:VEVENT
DTSTART;TZID=Europe/Zurich:20261123T083000
DTEND;TZID=Europe/Zurich:20261123T190000
DTSTAMP:20260425T010935
CREATED:20260221T162010Z
LAST-MODIFIED:20260221T162010Z
UID:10692-1795422600-1795460400@www.stvf.ch
SUMMARY:Besichtigung Pilatus Werke der Turnveteranen
DESCRIPTION:23.11.2026    Besichtigung Pilatus Werke   Max. 40 Personen\nLeitung: Köbi Debrunner / Hansruedi Güttinger (Anmeldung erforderlich
URL:https://www.stvf.ch/veranstaltungen/besichtigung-pilatus-werke-der-turnveteranen/
END:VEVENT
END:VCALENDAR